| Back to Multiple platform build/check report for BioC 3.8 | 
 | 
This page was generated on 2019-04-16 11:49:23 -0400 (Tue, 16 Apr 2019).
| Package 286/1649 | Hostname | OS / Arch | INSTALL | BUILD | CHECK | BUILD BIN | ||||||
| CNAnorm 1.28.0 Stefano Berri 
 | malbec1 | Linux (Ubuntu 16.04.6 LTS) / x86_64 | OK | [ OK ] | OK |  | ||||||
| merida1 | OS X 10.11.6 El Capitan / x86_64 | OK | OK | OK | OK |  | 
| Package: CNAnorm | 
| Version: 1.28.0 | 
| Command: /home/biocbuild/bbs-3.8-bioc/R/bin/R CMD build --keep-empty-dirs --no-resave-data CNAnorm | 
| StartedAt: 2019-04-15 19:11:01 -0400 (Mon, 15 Apr 2019) | 
| EndedAt: 2019-04-15 19:11:21 -0400 (Mon, 15 Apr 2019) | 
| EllapsedTime: 20.8 seconds | 
| RetCode: 0 | 
| Status: OK | 
| PackageFile: CNAnorm_1.28.0.tar.gz | 
| PackageFileSize: 617.9 KiB | 
############################################################################## ############################################################################## ### ### Running command: ### ### /home/biocbuild/bbs-3.8-bioc/R/bin/R CMD build --keep-empty-dirs --no-resave-data CNAnorm ### ############################################################################## ############################################################################## * checking for file ‘CNAnorm/DESCRIPTION’ ... OK * preparing ‘CNAnorm’: * checking DESCRIPTION meta-information ... OK * cleaning src * installing the package to build vignettes * creating vignettes ... OK * cleaning src * checking for LF line-endings in source and make files and shell scripts * checking for empty or unneeded directories * looking to see if a ‘data/datalist’ file should be added * building ‘CNAnorm_1.28.0.tar.gz’