| Back to Multiple platform build/check report for BioC 3.8 |
|
This page was generated on 2019-04-16 11:59:37 -0400 (Tue, 16 Apr 2019).
| Package 262/1649 | Hostname | OS / Arch | INSTALL | BUILD | CHECK | BUILD BIN | ||||||
| CHRONOS 1.10.1 Panos Balomenos
| malbec1 | Linux (Ubuntu 16.04.6 LTS) / x86_64 | OK | OK | OK | |||||||
| merida1 | OS X 10.11.6 El Capitan / x86_64 | OK | OK | [ OK ] | OK |
| Package: CHRONOS |
| Version: 1.10.1 |
| Command: /Library/Frameworks/R.framework/Versions/Current/Resources/bin/R CMD check --install=check:CHRONOS.install-out.txt --library=/Library/Frameworks/R.framework/Versions/Current/Resources/library --no-vignettes --timings CHRONOS_1.10.1.tar.gz |
| StartedAt: 2019-04-15 23:00:43 -0400 (Mon, 15 Apr 2019) |
| EndedAt: 2019-04-15 23:02:59 -0400 (Mon, 15 Apr 2019) |
| EllapsedTime: 135.7 seconds |
| RetCode: 0 |
| Status: OK |
| CheckDir: CHRONOS.Rcheck |
| Warnings: 0 |
############################################################################## ############################################################################## ### ### Running command: ### ### /Library/Frameworks/R.framework/Versions/Current/Resources/bin/R CMD check --install=check:CHRONOS.install-out.txt --library=/Library/Frameworks/R.framework/Versions/Current/Resources/library --no-vignettes --timings CHRONOS_1.10.1.tar.gz ### ############################################################################## ############################################################################## * using log directory ‘/Users/biocbuild/bbs-3.8-bioc/meat/CHRONOS.Rcheck’ * using R version 3.5.3 (2019-03-11) * using platform: x86_64-apple-darwin15.6.0 (64-bit) * using session charset: UTF-8 * using option ‘--no-vignettes’ * checking for file ‘CHRONOS/DESCRIPTION’ ... OK * this is package ‘CHRONOS’ version ‘1.10.1’ * checking package namespace information ... OK * checking package dependencies ... OK * checking if this is a source package ... OK * checking if there is a namespace ... OK * checking for hidden files and directories ... OK * checking for portable file names ... OK * checking for sufficient/correct file permissions ... OK * checking whether package ‘CHRONOS’ can be installed ... OK * checking installed package size ... OK * checking package directory ... OK * checking ‘build’ directory ... OK * checking DESCRIPTION meta-information ... OK * checking top-level files ... OK * checking for left-over files ... OK * checking index information ... OK * checking package subdirectories ... OK * checking R files for non-ASCII characters ... OK * checking R files for syntax errors ... OK * checking whether the package can be loaded ... OK * checking whether the package can be loaded with stated dependencies ... OK * checking whether the package can be unloaded cleanly ... OK * checking whether the namespace can be loaded with stated dependencies ... OK * checking whether the namespace can be unloaded cleanly ... OK * checking dependencies in R code ... OK * checking S3 generic/method consistency ... OK * checking replacement functions ... OK * checking foreign function calls ... OK * checking R code for possible problems ... OK * checking Rd files ... OK * checking Rd metadata ... OK * checking Rd cross-references ... OK * checking for missing documentation entries ... OK * checking for code/documentation mismatches ... OK * checking Rd \usage sections ... OK * checking Rd contents ... OK * checking for unstated dependencies in examples ... OK * checking sizes of PDF files under ‘inst/doc’ ... OK * checking files in ‘vignettes’ ... OK * checking examples ... OK * checking for unstated dependencies in ‘tests’ ... OK * checking tests ... Running ‘runTests.R’ OK * checking for unstated dependencies in vignettes ... OK * checking package vignettes in ‘inst/doc’ ... OK * checking running R code from vignettes ... SKIPPED * checking re-building of vignette outputs ... SKIPPED * checking PDF version of manual ... OK * DONE Status: OK
CHRONOS.Rcheck/00install.out
############################################################################## ############################################################################## ### ### Running command: ### ### /Library/Frameworks/R.framework/Versions/Current/Resources/bin/R CMD INSTALL CHRONOS ### ############################################################################## ############################################################################## * installing to library ‘/Library/Frameworks/R.framework/Versions/3.5/Resources/library’ * installing *source* package ‘CHRONOS’ ... ** R ** inst ** byte-compile and prepare package for lazy loading ** help *** installing help indices ** building package indices ** installing vignettes ** testing if installed package can be loaded * DONE (CHRONOS)
CHRONOS.Rcheck/tests/runTests.Rout
R version 3.5.3 (2019-03-11) -- "Great Truth"
Copyright (C) 2019 The R Foundation for Statistical Computing
Platform: x86_64-apple-darwin15.6.0 (64-bit)
R is free software and comes with ABSOLUTELY NO WARRANTY.
You are welcome to redistribute it under certain conditions.
Type 'license()' or 'licence()' for distribution details.
R is a collaborative project with many contributors.
Type 'contributors()' for more information and
'citation()' on how to cite R or R packages in publications.
Type 'demo()' for some demos, 'help()' for on-line help, or
'help.start()' for an HTML browser interface to help.
Type 'q()' to quit R.
> BiocGenerics:::testPackage('CHRONOS')
Testing test_CHRONOSrun...Importing entrezgene data...done.
Importing miRNA data...done.
Downloading files...done.
Creating adjacency matrices...done.
Extracting Linear Subpathways...done.
#98 subpathways initially
Calculating subscores...done.
#21 subpathways after subscore.
Calculating mirscores......end.
Extracting Non Linear Subpathways...done.
#24 subpathways initially
Calculating subscores...done.
#19 subpathways after subscore.
Calculating mirscores......end.
done.
Testing test_pathwayToGraph...Creating adjacency matrices...done.
done.
Testing test_subExtractionLinear...Importing entrezgene data...done.
Extracting Linear Subpathways...done.
done.
Testing test_subExtractionNonLinear...Importing entrezgene data...done.
Extracting Non Linear Subpathways...done.
done.
Testing test_subRefinement...Importing entrezgene data...done.
Importing miRNA data...done.
#98 subpathways initially
Calculating subscores...done.
#21 subpathways after subscore.
Calculating mirscores......end.
done.
Testing test_subVisualization...Importing entrezgene data...done.
Summarising scores...Note: zip::zip() is deprecated, please use zip::zipr() instead
done.
Summarising scores...done.
done.
RUNIT TEST PROTOCOL -- Mon Apr 15 23:02:54 2019
***********************************************
Number of test functions: 6
Number of errors: 0
Number of failures: 0
1 Test Suite :
CHRONOS RUnit Tests - 6 test functions, 0 errors, 0 failures
Number of test functions: 6
Number of errors: 0
Number of failures: 0
>
>
> proc.time()
user system elapsed
10.644 1.499 15.826
CHRONOS.Rcheck/CHRONOS-Ex.timings
| name | user | system | elapsed | |
| CHRONOSrun | 2.560 | 0.473 | 2.867 | |
| convertMiRNANomenclature | 0.007 | 0.008 | 0.017 | |
| convertNomenclature | 0 | 0 | 0 | |
| createPathwayGraphs | 0.542 | 0.013 | 0.562 | |
| downloadKEGGPathwayList | 0.047 | 0.008 | 0.058 | |
| downloadMiRecords | 0.048 | 0.009 | 0.060 | |
| downloadPathways | 0 | 0 | 0 | |
| extractLinearSubpathways | 1.456 | 0.339 | 1.480 | |
| extractNonLinearSubpathways | 0.326 | 0.025 | 0.365 | |
| getEdgeTypes | 0.001 | 0.000 | 0.002 | |
| importExpressions | 0.063 | 0.019 | 0.082 | |
| pathwayMeasures | 0.211 | 0.006 | 0.220 | |
| scoreSubpathways | 0.173 | 0.007 | 0.183 | |
| subpathwayKEGGmap | 0.040 | 0.002 | 0.043 | |
| subpathwayMiRNAs | 1.128 | 0.007 | 1.140 | |
| visualizeResults | 0.105 | 0.006 | 2.288 | |