| Back to Multiple platform build/check report for BioC 3.8 | 
  | 
This page was generated on 2019-04-13 11:24:38 -0400 (Sat, 13 Apr 2019).
| Package 226/1649 | Hostname | OS / Arch | INSTALL | BUILD | CHECK | BUILD BIN | ||||||
| CFAssay 1.16.1 Herbert Braselmann 
  | malbec1 | Linux (Ubuntu 16.04.6 LTS) / x86_64 | OK | OK | OK | |||||||
| tokay1 | Windows Server 2012 R2 Standard / x64 | OK | OK | OK | [ OK ] | |||||||
| merida1 | OS X 10.11.6 El Capitan / x86_64 | OK | OK | OK | OK | 
| Package: CFAssay | 
| Version: 1.16.1 | 
| Command: rm -rf CFAssay.buildbin-libdir && mkdir CFAssay.buildbin-libdir && C:\Users\biocbuild\bbs-3.8-bioc\R\bin\R.exe CMD INSTALL --merge-multiarch --build --library=CFAssay.buildbin-libdir CFAssay_1.16.1.tar.gz | 
| StartedAt: 2019-04-13 07:01:47 -0400 (Sat, 13 Apr 2019) | 
| EndedAt: 2019-04-13 07:02:04 -0400 (Sat, 13 Apr 2019) | 
| EllapsedTime: 17.2 seconds | 
| RetCode: 0 | 
| Status: OK | 
| PackageFile: CFAssay_1.16.1.zip | 
| PackageFileSize: 322.1 KiB | 
##############################################################################
##############################################################################
###
### Running command:
###
###   rm -rf CFAssay.buildbin-libdir && mkdir CFAssay.buildbin-libdir && C:\Users\biocbuild\bbs-3.8-bioc\R\bin\R.exe CMD INSTALL --merge-multiarch --build --library=CFAssay.buildbin-libdir CFAssay_1.16.1.tar.gz
###
##############################################################################
##############################################################################
install for i386
* installing *source* package 'CFAssay' ...
** R
** inst
** byte-compile and prepare package for lazy loading
** help
*** installing help indices
  converting help for package 'CFAssay'
    finding HTML links ... done
    cellsurvLQdiff                          html  
    cellsurvLQfit                           html  
    cfa2way                                 html  
    pes                                     html  
    plot.cellsurvLQfit                      html  
    plotExp                                 html  
    plotExp.cellsurvLQfit                   html  
    plotExp.cfa2way                         html  
    plotExp.default                         html  
    print.cellsurvLQdiff                    html  
    print.cellsurvLQfit                     html  
    print.cfa2way                           html  
    sfpmean                                 html  
** building package indices
** installing vignettes
** testing if installed package can be loaded
In R CMD INSTALL
install for x64
* installing *source* package 'CFAssay' ...
** testing if installed package can be loaded
* MD5 sums
packaged installation of 'CFAssay' as CFAssay_1.16.1.zip
* DONE (CFAssay)
In R CMD INSTALL
In R CMD INSTALL