| Back to Multiple platform build/check report for BioC 3.8 |
|
This page was generated on 2019-04-13 11:27:45 -0400 (Sat, 13 Apr 2019).
| Package 204/1649 | Hostname | OS / Arch | INSTALL | BUILD | CHECK | BUILD BIN | ||||||
| CATALYST 1.6.7 Helena L. Crowell
| malbec1 | Linux (Ubuntu 16.04.6 LTS) / x86_64 | OK | OK | OK | |||||||
| tokay1 | Windows Server 2012 R2 Standard / x64 | OK | OK | OK | [ OK ] | |||||||
| merida1 | OS X 10.11.6 El Capitan / x86_64 | OK | OK | OK | OK |
| Package: CATALYST |
| Version: 1.6.7 |
| Command: rm -rf CATALYST.buildbin-libdir && mkdir CATALYST.buildbin-libdir && C:\Users\biocbuild\bbs-3.8-bioc\R\bin\R.exe CMD INSTALL --merge-multiarch --build --library=CATALYST.buildbin-libdir CATALYST_1.6.7.tar.gz |
| StartedAt: 2019-04-13 07:00:28 -0400 (Sat, 13 Apr 2019) |
| EndedAt: 2019-04-13 07:01:31 -0400 (Sat, 13 Apr 2019) |
| EllapsedTime: 63.1 seconds |
| RetCode: 0 |
| Status: OK |
| PackageFile: CATALYST_1.6.7.zip |
| PackageFileSize: 5.618 MiB |
##############################################################################
##############################################################################
###
### Running command:
###
### rm -rf CATALYST.buildbin-libdir && mkdir CATALYST.buildbin-libdir && C:\Users\biocbuild\bbs-3.8-bioc\R\bin\R.exe CMD INSTALL --merge-multiarch --build --library=CATALYST.buildbin-libdir CATALYST_1.6.7.tar.gz
###
##############################################################################
##############################################################################
install for i386
* installing *source* package 'CATALYST' ...
** R
** data
*** moving datasets to lazyload DB
** inst
** byte-compile and prepare package for lazy loading
Creating a new generic function for 'filter' in package 'CATALYST'
** help
*** installing help indices
converting help for package 'CATALYST'
finding HTML links ... done
adaptSpillmat html
applyCutoffs html
assignPrelim html
finding level-2 HTML links ... done
cluster html
compCytof html
computeSpillmat html
concatFCS html
daFrame-class html
daFrame-methods html
data html
dbFrame-class html
dbFrame-methods html
estCutoffs html
extractClusters html
filter html
guessPanel html
launchGUI html
mergeClusters html
normCytof html
outFCS html
outFrames html
plotAbundances html
plotClusterExprs html
plotClusterHeatmap html
plotCodes html
plotCounts html
plotDR html
plotDiffHeatmap html
plotEvents html
plotExprHeatmap html
plotExprs html
plotMDS html
plotMahal html
plotMedExprs html
plotNRS html
plotSpillmat html
plotYields html
runDR html
** building package indices
** installing vignettes
** testing if installed package can be loaded
In R CMD INSTALL
install for x64
* installing *source* package 'CATALYST' ...
** testing if installed package can be loaded
* MD5 sums
packaged installation of 'CATALYST' as CATALYST_1.6.7.zip
* DONE (CATALYST)
In R CMD INSTALL
In R CMD INSTALL