| Back to Multiple platform build/check report for BioC 3.8 |
|
This page was generated on 2019-04-16 12:10:12 -0400 (Tue, 16 Apr 2019).
| Package 194/1649 | Hostname | OS / Arch | INSTALL | BUILD | CHECK | BUILD BIN | ||||||
| CAMTHC 1.0.0 Lulu Chen
| malbec1 | Linux (Ubuntu 16.04.6 LTS) / x86_64 | OK | OK | OK | |||||||
| merida1 | OS X 10.11.6 El Capitan / x86_64 | OK | OK | [ OK ] | OK |
| Package: CAMTHC |
| Version: 1.0.0 |
| Command: /Library/Frameworks/R.framework/Versions/Current/Resources/bin/R CMD check --install=check:CAMTHC.install-out.txt --library=/Library/Frameworks/R.framework/Versions/Current/Resources/library --no-vignettes --timings CAMTHC_1.0.0.tar.gz |
| StartedAt: 2019-04-15 22:44:44 -0400 (Mon, 15 Apr 2019) |
| EndedAt: 2019-04-15 22:49:10 -0400 (Mon, 15 Apr 2019) |
| EllapsedTime: 266.5 seconds |
| RetCode: 0 |
| Status: OK |
| CheckDir: CAMTHC.Rcheck |
| Warnings: 0 |
##############################################################################
##############################################################################
###
### Running command:
###
### /Library/Frameworks/R.framework/Versions/Current/Resources/bin/R CMD check --install=check:CAMTHC.install-out.txt --library=/Library/Frameworks/R.framework/Versions/Current/Resources/library --no-vignettes --timings CAMTHC_1.0.0.tar.gz
###
##############################################################################
##############################################################################
* using log directory ‘/Users/biocbuild/bbs-3.8-bioc/meat/CAMTHC.Rcheck’
* using R version 3.5.3 (2019-03-11)
* using platform: x86_64-apple-darwin15.6.0 (64-bit)
* using session charset: UTF-8
* using option ‘--no-vignettes’
* checking for file ‘CAMTHC/DESCRIPTION’ ... OK
* checking extension type ... Package
* this is package ‘CAMTHC’ version ‘1.0.0’
* package encoding: UTF-8
* checking package namespace information ... OK
* checking package dependencies ... OK
* checking if this is a source package ... OK
* checking if there is a namespace ... OK
* checking for hidden files and directories ... OK
* checking for portable file names ... OK
* checking for sufficient/correct file permissions ... OK
* checking whether package ‘CAMTHC’ can be installed ... OK
* checking installed package size ... OK
* checking package directory ... OK
* checking ‘build’ directory ... OK
* checking DESCRIPTION meta-information ... OK
* checking top-level files ... OK
* checking for left-over files ... OK
* checking index information ... OK
* checking package subdirectories ... OK
* checking R files for non-ASCII characters ... OK
* checking R files for syntax errors ... OK
* checking whether the package can be loaded ... OK
* checking whether the package can be loaded with stated dependencies ... OK
* checking whether the package can be unloaded cleanly ... OK
* checking whether the namespace can be loaded with stated dependencies ... OK
* checking whether the namespace can be unloaded cleanly ... OK
* checking dependencies in R code ... OK
* checking S3 generic/method consistency ... OK
* checking replacement functions ... OK
* checking foreign function calls ... OK
* checking R code for possible problems ... OK
* checking Rd files ... OK
* checking Rd metadata ... OK
* checking Rd cross-references ... OK
* checking for missing documentation entries ... OK
* checking for code/documentation mismatches ... OK
* checking Rd \usage sections ... OK
* checking Rd contents ... OK
* checking for unstated dependencies in examples ... OK
* checking contents of ‘data’ directory ... OK
* checking data for non-ASCII characters ... OK
* checking data for ASCII and uncompressed saves ... OK
* checking files in ‘vignettes’ ... OK
* checking examples ... OK
Examples with CPU or elapsed time > 5s
user system elapsed
MGsforA 16.220 3.338 19.853
PCAmat 14.697 3.494 18.343
CAM 14.426 3.451 18.125
AS-accessor 14.400 3.081 17.649
* checking for unstated dependencies in ‘tests’ ... OK
* checking tests ...
Running ‘testthat.R’
OK
* checking for unstated dependencies in vignettes ... OK
* checking package vignettes in ‘inst/doc’ ... OK
* checking running R code from vignettes ... SKIPPED
* checking re-building of vignette outputs ... SKIPPED
* checking PDF version of manual ... OK
* DONE
Status: OK
CAMTHC.Rcheck/00install.out
############################################################################## ############################################################################## ### ### Running command: ### ### /Library/Frameworks/R.framework/Versions/Current/Resources/bin/R CMD INSTALL CAMTHC ### ############################################################################## ############################################################################## * installing to library ‘/Library/Frameworks/R.framework/Versions/3.5/Resources/library’ * installing *source* package ‘CAMTHC’ ... ** R ** data ** inst ** byte-compile and prepare package for lazy loading ** help *** installing help indices ** building package indices ** installing vignettes ** testing if installed package can be loaded * DONE (CAMTHC)
CAMTHC.Rcheck/tests/testthat.Rout
R version 3.5.3 (2019-03-11) -- "Great Truth"
Copyright (C) 2019 The R Foundation for Statistical Computing
Platform: x86_64-apple-darwin15.6.0 (64-bit)
R is free software and comes with ABSOLUTELY NO WARRANTY.
You are welcome to redistribute it under certain conditions.
Type 'license()' or 'licence()' for distribution details.
R is a collaborative project with many contributors.
Type 'contributors()' for more information and
'citation()' on how to cite R or R packages in publications.
Type 'demo()' for some demos, 'help()' for on-line help, or
'help.start()' for an HTML browser interface to help.
Type 'q()' to quit R.
> library(testthat)
> library(CAMTHC)
>
> test_check("CAMTHC")
══ testthat results ═══════════════════════════════════════════════════════════
OK: 5 SKIPPED: 0 FAILED: 0
>
> proc.time()
user system elapsed
10.125 0.564 10.658
CAMTHC.Rcheck/CAMTHC-Ex.timings
| name | user | system | elapsed | |
| AS-accessor | 14.400 | 3.081 | 17.649 | |
| AfromMarkers | 0.520 | 0.015 | 0.547 | |
| CAM | 14.426 | 3.451 | 18.125 | |
| CAMASest | 3.032 | 0.081 | 3.154 | |
| CAMMGCluster | 2.712 | 0.063 | 2.791 | |
| CAMPrep | 2.911 | 0.060 | 3.008 | |
| MDL | 0 | 0 | 0 | |
| MGsforA | 16.220 | 3.338 | 19.853 | |
| MGstatistic | 0.664 | 0.027 | 0.694 | |
| PCAmat | 14.697 | 3.494 | 18.343 | |
| XWProj | 1.652 | 0.026 | 1.685 | |
| cornerSort | 0.093 | 0.013 | 0.068 | |
| simplexplot | 0.636 | 0.027 | 0.668 | |