| Back to Multiple platform build/check report for BioC 3.8 | 
 | 
This page was generated on 2019-04-13 11:22:59 -0400 (Sat, 13 Apr 2019).
| Package 145/1649 | Hostname | OS / Arch | INSTALL | BUILD | CHECK | BUILD BIN | ||||||
| BiocStyle 2.10.0 Bioconductor Package Maintainer 
 | malbec1 | Linux (Ubuntu 16.04.6 LTS) / x86_64 | OK | OK | OK |  | ||||||
| tokay1 | Windows Server 2012 R2 Standard / x64 | OK | OK | OK | [ OK ] |  | ||||||
| merida1 | OS X 10.11.6 El Capitan / x86_64 | OK | OK | OK | OK |  | 
| Package: BiocStyle | 
| Version: 2.10.0 | 
| Command: rm -rf BiocStyle.buildbin-libdir && mkdir BiocStyle.buildbin-libdir && C:\Users\biocbuild\bbs-3.8-bioc\R\bin\R.exe CMD INSTALL --merge-multiarch --build --library=BiocStyle.buildbin-libdir BiocStyle_2.10.0.tar.gz | 
| StartedAt: 2019-04-13 06:57:41 -0400 (Sat, 13 Apr 2019) | 
| EndedAt: 2019-04-13 06:58:07 -0400 (Sat, 13 Apr 2019) | 
| EllapsedTime: 25.5 seconds | 
| RetCode: 0 | 
| Status: OK | 
| PackageFile: BiocStyle_2.10.0.zip | 
| PackageFileSize: 736 KiB | 
##############################################################################
##############################################################################
###
### Running command:
###
###   rm -rf BiocStyle.buildbin-libdir && mkdir BiocStyle.buildbin-libdir && C:\Users\biocbuild\bbs-3.8-bioc\R\bin\R.exe CMD INSTALL --merge-multiarch --build --library=BiocStyle.buildbin-libdir BiocStyle_2.10.0.tar.gz
###
##############################################################################
##############################################################################
install for i386
* installing *source* package 'BiocStyle' ...
** R
** inst
** byte-compile and prepare package for lazy loading
** help
*** installing help indices
  converting help for package 'BiocStyle'
    finding HTML links ... done
    BiocStyle-defunct                       html  
    helpers                                 html  
    html_document                           html  
    latex                                   html  
    macros                                  html  
    markdown                                html  
    md_document                             html  
    output                                  html  
    pdf_document                            html  
    finding level-2 HTML links ... done
** building package indices
** installing vignettes
** testing if installed package can be loaded
In R CMD INSTALL
install for x64
* installing *source* package 'BiocStyle' ...
** testing if installed package can be loaded
* MD5 sums
packaged installation of 'BiocStyle' as BiocStyle_2.10.0.zip
* DONE (BiocStyle)
In R CMD INSTALL
In R CMD INSTALL