| Back to Multiple platform build/check report for BioC 3.8 |
|
This page was generated on 2019-04-16 12:00:51 -0400 (Tue, 16 Apr 2019).
| Package 144/1649 | Hostname | OS / Arch | INSTALL | BUILD | CHECK | BUILD BIN | ||||||
| BiocSklearn 1.4.0 VJ Carey
| malbec1 | Linux (Ubuntu 16.04.6 LTS) / x86_64 | OK | OK | OK | |||||||
| merida1 | OS X 10.11.6 El Capitan / x86_64 | OK | OK | OK | [ OK ] |
| Package: BiocSklearn |
| Version: 1.4.0 |
| Command: rm -rf BiocSklearn.buildbin-libdir && mkdir BiocSklearn.buildbin-libdir && /Users/biocbuild/BBS/utils/build-universal.sh BiocSklearn_1.4.0.tar.gz /Library/Frameworks/R.framework/Versions/Current/Resources/bin/R BiocSklearn.buildbin-libdir |
| StartedAt: 2019-04-16 03:44:57 -0400 (Tue, 16 Apr 2019) |
| EndedAt: 2019-04-16 03:45:46 -0400 (Tue, 16 Apr 2019) |
| EllapsedTime: 49.1 seconds |
| RetCode: 0 |
| Status: OK |
| PackageFile: BiocSklearn_1.4.0.tgz |
| PackageFileSize: 35.52 MiB |
############################################################################## ############################################################################## ### ### Running command: ### ### rm -rf BiocSklearn.buildbin-libdir && mkdir BiocSklearn.buildbin-libdir && /Users/biocbuild/BBS/utils/build-universal.sh BiocSklearn_1.4.0.tar.gz /Library/Frameworks/R.framework/Versions/Current/Resources/bin/R BiocSklearn.buildbin-libdir ### ############################################################################## ############################################################################## >>>>>>> >>>>>>> INSTALLATION WITH 'R CMD INSTALL --preclean --no-multiarch --library=BiocSklearn.buildbin-libdir BiocSklearn_1.4.0.tar.gz' >>>>>>> * installing *source* package ‘BiocSklearn’ ... ** R ** inst ** byte-compile and prepare package for lazy loading ** help *** installing help indices ** building package indices ** installing vignettes ** testing if installed package can be loaded * DONE (BiocSklearn)