| Back to Multiple platform build/check report for BioC 3.8 |
|
This page was generated on 2019-04-13 11:29:40 -0400 (Sat, 13 Apr 2019).
| Package 143/1649 | Hostname | OS / Arch | INSTALL | BUILD | CHECK | BUILD BIN | ||||||
| BiocPkgTools 1.0.3 Sean Davis
| malbec1 | Linux (Ubuntu 16.04.6 LTS) / x86_64 | OK | OK | OK | |||||||
| tokay1 | Windows Server 2012 R2 Standard / x64 | OK | OK | OK | [ OK ] | |||||||
| merida1 | OS X 10.11.6 El Capitan / x86_64 | OK | OK | OK | OK |
| Package: BiocPkgTools |
| Version: 1.0.3 |
| Command: rm -rf BiocPkgTools.buildbin-libdir && mkdir BiocPkgTools.buildbin-libdir && C:\Users\biocbuild\bbs-3.8-bioc\R\bin\R.exe CMD INSTALL --merge-multiarch --build --library=BiocPkgTools.buildbin-libdir BiocPkgTools_1.0.3.tar.gz |
| StartedAt: 2019-04-13 06:57:36 -0400 (Sat, 13 Apr 2019) |
| EndedAt: 2019-04-13 06:58:05 -0400 (Sat, 13 Apr 2019) |
| EllapsedTime: 28.8 seconds |
| RetCode: 0 |
| Status: OK |
| PackageFile: BiocPkgTools_1.0.3.zip |
| PackageFileSize: 1.31 MiB |
##############################################################################
##############################################################################
###
### Running command:
###
### rm -rf BiocPkgTools.buildbin-libdir && mkdir BiocPkgTools.buildbin-libdir && C:\Users\biocbuild\bbs-3.8-bioc\R\bin\R.exe CMD INSTALL --merge-multiarch --build --library=BiocPkgTools.buildbin-libdir BiocPkgTools_1.0.3.tar.gz
###
##############################################################################
##############################################################################
install for i386
* installing *source* package 'BiocPkgTools' ...
** R
** inst
** byte-compile and prepare package for lazy loading
** help
*** installing help indices
converting help for package 'BiocPkgTools'
finding HTML links ... done
BiocPkgTools html
biocBuildReport html
biocDownloadStats html
biocExplore html
biocPkgList html
buildPkgDependencyDataFrame html
buildPkgDependencyIgraph html
dataciteXMLGenerate html
generateBiocPkgDOI html
getBiocVignette html
getPackageInfo html
get_bioc_data html
githubURLParts html
inducedSubgraphByPkgs html
problemPage html
subgraphByDegree html
** building package indices
** installing vignettes
** testing if installed package can be loaded
In R CMD INSTALL
install for x64
* installing *source* package 'BiocPkgTools' ...
** testing if installed package can be loaded
* MD5 sums
packaged installation of 'BiocPkgTools' as BiocPkgTools_1.0.3.zip
* DONE (BiocPkgTools)
In R CMD INSTALL
In R CMD INSTALL