| Back to Multiple platform build/check report for BioC 3.8 | 
 | 
This page was generated on 2019-04-16 11:53:30 -0400 (Tue, 16 Apr 2019).
| Package 140/1649 | Hostname | OS / Arch | INSTALL | BUILD | CHECK | BUILD BIN | ||||||
| BiocOncoTK 1.2.1 VJ Carey 
 | malbec1 | Linux (Ubuntu 16.04.6 LTS) / x86_64 | OK | [ OK ] | OK |  | ||||||
| merida1 | OS X 10.11.6 El Capitan / x86_64 | OK | OK | OK | OK |  | 
| Package: BiocOncoTK | 
| Version: 1.2.1 | 
| Command: /home/biocbuild/bbs-3.8-bioc/R/bin/R CMD build --keep-empty-dirs --no-resave-data BiocOncoTK | 
| StartedAt: 2019-04-15 21:44:12 -0400 (Mon, 15 Apr 2019) | 
| EndedAt: 2019-04-15 21:45:11 -0400 (Mon, 15 Apr 2019) | 
| EllapsedTime: 58.9 seconds | 
| RetCode: 0 | 
| Status: OK | 
| PackageFile: BiocOncoTK_1.2.1.tar.gz | 
| PackageFileSize: 3.469 MiB | 
############################################################################## ############################################################################## ### ### Running command: ### ### /home/biocbuild/bbs-3.8-bioc/R/bin/R CMD build --keep-empty-dirs --no-resave-data BiocOncoTK ### ############################################################################## ############################################################################## * checking for file ‘BiocOncoTK/DESCRIPTION’ ... OK * preparing ‘BiocOncoTK’: * checking DESCRIPTION meta-information ... OK * installing the package to build vignettes * creating vignettes ... OK * checking for LF line-endings in source and make files and shell scripts * checking for empty or unneeded directories * looking to see if a ‘data/datalist’ file should be added * building ‘BiocOncoTK_1.2.1.tar.gz’