| Back to Multiple platform build/check report for BioC 3.8 | 
 | 
This page was generated on 2019-04-16 11:50:29 -0400 (Tue, 16 Apr 2019).
| Package 134/1649 | Hostname | OS / Arch | INSTALL | BUILD | CHECK | BUILD BIN | ||||||
| BiocCheck 1.18.0 Bioconductor Package Maintainer 
 | malbec1 | Linux (Ubuntu 16.04.6 LTS) / x86_64 | OK | [ OK ] | OK |  | ||||||
| merida1 | OS X 10.11.6 El Capitan / x86_64 | OK | OK | OK | OK |  | 
| Package: BiocCheck | 
| Version: 1.18.0 | 
| Command: /home/biocbuild/bbs-3.8-bioc/R/bin/R CMD build --keep-empty-dirs --no-resave-data BiocCheck | 
| StartedAt: 2019-04-15 19:43:39 -0400 (Mon, 15 Apr 2019) | 
| EndedAt: 2019-04-15 19:43:49 -0400 (Mon, 15 Apr 2019) | 
| EllapsedTime: 9.9 seconds | 
| RetCode: 0 | 
| Status: OK | 
| PackageFile: BiocCheck_1.18.0.tar.gz | 
| PackageFileSize: 4.142 MiB | 
############################################################################## ############################################################################## ### ### Running command: ### ### /home/biocbuild/bbs-3.8-bioc/R/bin/R CMD build --keep-empty-dirs --no-resave-data BiocCheck ### ############################################################################## ############################################################################## * checking for file ‘BiocCheck/DESCRIPTION’ ... OK * preparing ‘BiocCheck’: * checking DESCRIPTION meta-information ... OK * installing the package to build vignettes * creating vignettes ... OK * checking for LF line-endings in source and make files and shell scripts * checking for empty or unneeded directories * building ‘BiocCheck_1.18.0.tar.gz’