| Back to Multiple platform build/check report for BioC 3.8 |
|
This page was generated on 2019-04-16 11:59:07 -0400 (Tue, 16 Apr 2019).
| Package 156/1649 | Hostname | OS / Arch | INSTALL | BUILD | CHECK | BUILD BIN | ||||||
| BioQC 1.10.0 Jitao David Zhang
| malbec1 | Linux (Ubuntu 16.04.6 LTS) / x86_64 | OK | OK | OK | |||||||
| merida1 | OS X 10.11.6 El Capitan / x86_64 | OK | [ OK ] | OK | OK |
| Package: BioQC |
| Version: 1.10.0 |
| Command: /Library/Frameworks/R.framework/Versions/Current/Resources/bin/R CMD build --keep-empty-dirs --no-resave-data BioQC |
| StartedAt: 2019-04-15 20:37:25 -0400 (Mon, 15 Apr 2019) |
| EndedAt: 2019-04-15 20:38:02 -0400 (Mon, 15 Apr 2019) |
| EllapsedTime: 37.9 seconds |
| RetCode: 0 |
| Status: OK |
| PackageFile: BioQC_1.10.0.tar.gz |
| PackageFileSize: 599.3 KiB |
##############################################################################
##############################################################################
###
### Running command:
###
### /Library/Frameworks/R.framework/Versions/Current/Resources/bin/R CMD build --keep-empty-dirs --no-resave-data BioQC
###
##############################################################################
##############################################################################
* checking for file ‘BioQC/DESCRIPTION’ ... OK
* preparing ‘BioQC’:
* checking DESCRIPTION meta-information ... OK
* cleaning src
* installing the package to build vignettes
* creating vignettes ... OK
Warning: ‘inst/doc’ files
‘bioqc-efficiency.R’, ‘bioqc-signedGenesets.R’
ignored as vignettes have been rebuilt.
Run R CMD build with --no-build-vignettes to prevent rebuilding.
* cleaning src
* checking for LF line-endings in source and make files and shell scripts
* checking for empty or unneeded directories
* building ‘BioQC_1.10.0.tar.gz’