| Back to Multiple platform build/check report for BioC 3.8 |
|
This page was generated on 2019-04-13 11:21:20 -0400 (Sat, 13 Apr 2019).
| Package 154/1649 | Hostname | OS / Arch | INSTALL | BUILD | CHECK | BUILD BIN | ||||||
| BioNet 1.42.0 Marcus Dittrich
| malbec1 | Linux (Ubuntu 16.04.6 LTS) / x86_64 | OK | OK | OK | |||||||
| tokay1 | Windows Server 2012 R2 Standard / x64 | [ OK ] | OK | OK | OK | |||||||
| merida1 | OS X 10.11.6 El Capitan / x86_64 | OK | OK | OK | OK |
| Package: BioNet |
| Version: 1.42.0 |
| Command: C:\cygwin\bin\curl.exe -O https://malbec1.bioconductor.org/BBS/3.8/bioc/src/contrib/BioNet_1.42.0.tar.gz && rm -rf BioNet.buildbin-libdir && mkdir BioNet.buildbin-libdir && C:\Users\biocbuild\bbs-3.8-bioc\R\bin\R.exe CMD INSTALL --merge-multiarch --build --library=BioNet.buildbin-libdir BioNet_1.42.0.tar.gz && C:\Users\biocbuild\bbs-3.8-bioc\R\bin\R.exe CMD INSTALL BioNet_1.42.0.zip && rm BioNet_1.42.0.tar.gz BioNet_1.42.0.zip |
| StartedAt: 2019-04-12 18:43:05 -0400 (Fri, 12 Apr 2019) |
| EndedAt: 2019-04-12 18:44:33 -0400 (Fri, 12 Apr 2019) |
| EllapsedTime: 87.7 seconds |
| RetCode: 0 |
| Status: OK |
##############################################################################
##############################################################################
###
### Running command:
###
### C:\cygwin\bin\curl.exe -O https://malbec1.bioconductor.org/BBS/3.8/bioc/src/contrib/BioNet_1.42.0.tar.gz && rm -rf BioNet.buildbin-libdir && mkdir BioNet.buildbin-libdir && C:\Users\biocbuild\bbs-3.8-bioc\R\bin\R.exe CMD INSTALL --merge-multiarch --build --library=BioNet.buildbin-libdir BioNet_1.42.0.tar.gz && C:\Users\biocbuild\bbs-3.8-bioc\R\bin\R.exe CMD INSTALL BioNet_1.42.0.zip && rm BioNet_1.42.0.tar.gz BioNet_1.42.0.zip
###
##############################################################################
##############################################################################
% Total % Received % Xferd Average Speed Time Time Time Current
Dload Upload Total Spent Left Speed
0 0 0 0 0 0 0 0 --:--:-- --:--:-- --:--:-- 0
100 1016k 100 1016k 0 0 18.1M 0 --:--:-- --:--:-- --:--:-- 19.4M
install for i386
* installing *source* package 'BioNet' ...
** R
** data
** inst
** byte-compile and prepare package for lazy loading
** help
*** installing help indices
converting help for package 'BioNet'
finding HTML links ... done
BioNet-package html
aggrPvals html
bumOptim html
compareNetworks html
consensusScores html
fbum html
fbumLL html
fdrThreshold html
fitBumModel html
getCompScores html
getEdgeList html
hist.bum html
largestComp html
largestScoreComp html
loadNetwork.sif html
loadNetwork.tab html
makeNetwork html
mapByVar html
permutateNodes html
piUpper html
plot.bum html
plot3dModule html
plotLLSurface html
plotModule html
print.bum html
pvaluesExample html
readHeinzGraph html
readHeinzTree html
resamplingPvalues html
rmSelfLoops html
runFastHeinz html
runHeinz html
save3dModule html
saveNetwork html
scanFDR html
scoreFunction html
scoreNodes html
scoreOffset html
sortedEdgeList html
subNetwork html
summary.bum html
writeHeinz html
writeHeinzEdges html
writeHeinzNodes html
** building package indices
** installing vignettes
** testing if installed package can be loaded
In R CMD INSTALL
install for x64
* installing *source* package 'BioNet' ...
** testing if installed package can be loaded
* MD5 sums
packaged installation of 'BioNet' as BioNet_1.42.0.zip
* DONE (BioNet)
In R CMD INSTALL
In R CMD INSTALL
* installing to library 'C:/Users/biocbuild/bbs-3.8-bioc/R/library'
package 'BioNet' successfully unpacked and MD5 sums checked
In R CMD INSTALL