| Back to Multiple platform build/check report for BioC 3.8 | 
 | 
This page was generated on 2019-04-16 11:59:33 -0400 (Tue, 16 Apr 2019).
| Package 120/1649 | Hostname | OS / Arch | INSTALL | BUILD | CHECK | BUILD BIN | ||||||
| BgeeDB 2.8.0 Julien Wollbrett 
 | malbec1 | Linux (Ubuntu 16.04.6 LTS) / x86_64 | OK | OK | OK |  | ||||||
| merida1 | OS X 10.11.6 El Capitan / x86_64 | OK | OK | OK | [ OK ] |  | 
| Package: BgeeDB | 
| Version: 2.8.0 | 
| Command: rm -rf BgeeDB.buildbin-libdir && mkdir BgeeDB.buildbin-libdir && /Users/biocbuild/BBS/utils/build-universal.sh BgeeDB_2.8.0.tar.gz /Library/Frameworks/R.framework/Versions/Current/Resources/bin/R BgeeDB.buildbin-libdir | 
| StartedAt: 2019-04-16 03:43:44 -0400 (Tue, 16 Apr 2019) | 
| EndedAt: 2019-04-16 03:44:32 -0400 (Tue, 16 Apr 2019) | 
| EllapsedTime: 47.5 seconds | 
| RetCode: 0 | 
| Status: OK | 
| PackageFile: BgeeDB_2.8.0.tgz | 
| PackageFileSize: 311.7 KiB | 
############################################################################## ############################################################################## ### ### Running command: ### ### rm -rf BgeeDB.buildbin-libdir && mkdir BgeeDB.buildbin-libdir && /Users/biocbuild/BBS/utils/build-universal.sh BgeeDB_2.8.0.tar.gz /Library/Frameworks/R.framework/Versions/Current/Resources/bin/R BgeeDB.buildbin-libdir ### ############################################################################## ############################################################################## >>>>>>> >>>>>>> INSTALLATION WITH 'R CMD INSTALL --preclean --no-multiarch --library=BgeeDB.buildbin-libdir BgeeDB_2.8.0.tar.gz' >>>>>>> * installing *source* package ‘BgeeDB’ ... ** R ** data ** inst ** byte-compile and prepare package for lazy loading groupGOTerms: GOBPTerm, GOMFTerm, GOCCTerm environments built. ** help *** installing help indices ** building package indices ** installing vignettes ** testing if installed package can be loaded groupGOTerms: GOBPTerm, GOMFTerm, GOCCTerm environments built. * DONE (BgeeDB)