| Back to Multiple platform build/check report for BioC 3.8 |
|
This page was generated on 2019-04-16 11:51:01 -0400 (Tue, 16 Apr 2019).
| Package 46/1649 | Hostname | OS / Arch | INSTALL | BUILD | CHECK | BUILD BIN | ||||||
| AnalysisPageServer 1.16.0 Brad Friedman
| malbec1 | Linux (Ubuntu 16.04.6 LTS) / x86_64 | [ OK ] | OK | OK | |||||||
| merida1 | OS X 10.11.6 El Capitan / x86_64 | OK | OK | OK | OK |
| Package: AnalysisPageServer |
| Version: 1.16.0 |
| Command: /home/biocbuild/bbs-3.8-bioc/R/bin/R CMD INSTALL AnalysisPageServer |
| StartedAt: 2019-04-15 17:58:27 -0400 (Mon, 15 Apr 2019) |
| EndedAt: 2019-04-15 17:58:39 -0400 (Mon, 15 Apr 2019) |
| EllapsedTime: 12.0 seconds |
| RetCode: 0 |
| Status: OK |
##############################################################################
##############################################################################
###
### Running command:
###
### /home/biocbuild/bbs-3.8-bioc/R/bin/R CMD INSTALL AnalysisPageServer
###
##############################################################################
##############################################################################
* installing to library ‘/home/biocbuild/bbs-3.8-bioc/R/library’
* installing *source* package ‘AnalysisPageServer’ ...
** libs
g++ -I"/home/biocbuild/bbs-3.8-bioc/R/include" -DNDEBUG -I/usr/local/include -fpic -g -O2 -Wall -c AnalysisPageSVG.cpp -o AnalysisPageSVG.o
AnalysisPageSVG.cpp: In function ‘int matchPlotPoints(XMLElementList, std::deque<double>, std::deque<double>, double, int, int)’:
AnalysisPageSVG.cpp:154:8: warning: comparison between signed and unsigned integer expressions [-Wsign-compare]
if(n != y.size()) throw "x and y have different lengths";
^
AnalysisPageSVG.cpp:157:17: warning: comparison between signed and unsigned integer expressions [-Wsign-compare]
if(els.size() < start + n) {
^
AnalysisPageSVG.cpp:194:22: warning: comparison between signed and unsigned integer expressions [-Wsign-compare]
for(int i = 0; i < x.size(); i++) {
^
AnalysisPageSVG.cpp:210:24: warning: comparison between signed and unsigned integer expressions [-Wsign-compare]
for(int i = 0; i < els_x.size(); i++) {
^
AnalysisPageSVG.cpp:215:24: warning: comparison between signed and unsigned integer expressions [-Wsign-compare]
for(int i = 0; i < els_y.size(); i++) {
^
g++ -I"/home/biocbuild/bbs-3.8-bioc/R/include" -DNDEBUG -I/usr/local/include -fpic -g -O2 -Wall -c R_init_AnalysisPageServer.cpp -o R_init_AnalysisPageServer.o
g++ -I"/home/biocbuild/bbs-3.8-bioc/R/include" -DNDEBUG -I/usr/local/include -fpic -g -O2 -Wall -c SearchReplace2.cpp -o SearchReplace2.o
gcc -I"/home/biocbuild/bbs-3.8-bioc/R/include" -DNDEBUG -I/usr/local/include -fpic -g -O2 -Wall -c catch.c -o catch.o
g++ -I"/home/biocbuild/bbs-3.8-bioc/R/include" -DNDEBUG -I/usr/local/include -fpic -g -O2 -Wall -c cor.cpp -o cor.o
cor.cpp: In function ‘double basic_cor(const std::deque<double>&, const std::deque<double>&)’:
cor.cpp:24:8: warning: comparison between signed and unsigned integer expressions [-Wsign-compare]
if(n != y.size()) throw "different sizes";
^
g++ -I"/home/biocbuild/bbs-3.8-bioc/R/include" -DNDEBUG -I/usr/local/include -fpic -g -O2 -Wall -c tinyxml2.cpp -o tinyxml2.o
g++ -shared -L/home/biocbuild/bbs-3.8-bioc/R/lib -L/usr/local/lib -o AnalysisPageServer.so AnalysisPageSVG.o R_init_AnalysisPageServer.o SearchReplace2.o catch.o cor.o tinyxml2.o -L/home/biocbuild/bbs-3.8-bioc/R/lib -lR
installing to /home/biocbuild/bbs-3.8-bioc/R/library/AnalysisPageServer/libs
** R
** inst
** byte-compile and prepare package for lazy loading
While loading AnalysisPageServer: urlEncode not found, providing a pure R implementation
While loading AnalysisPageServer: urlDecode not found, providing a pure R implementation
** help
*** installing help indices
** building package indices
** installing vignettes
** testing if installed package can be loaded
* DONE (AnalysisPageServer)