| Back to Multiple platform build/check report for BioC 3.8 | 
 | 
This page was generated on 2019-04-13 11:20:42 -0400 (Sat, 13 Apr 2019).
| Package 22/1649 | Hostname | OS / Arch | INSTALL | BUILD | CHECK | BUILD BIN | ||||||
| AffyCompatible 1.42.0 Martin Morgan 
 | malbec1 | Linux (Ubuntu 16.04.6 LTS) / x86_64 | OK | OK | OK |  | ||||||
| tokay1 | Windows Server 2012 R2 Standard / x64 | OK | OK | OK | [ OK ] |  | ||||||
| merida1 | OS X 10.11.6 El Capitan / x86_64 | OK | OK | OK | OK |  | 
| Package: AffyCompatible | 
| Version: 1.42.0 | 
| Command: rm -rf AffyCompatible.buildbin-libdir && mkdir AffyCompatible.buildbin-libdir && C:\Users\biocbuild\bbs-3.8-bioc\R\bin\R.exe CMD INSTALL --merge-multiarch --build --library=AffyCompatible.buildbin-libdir AffyCompatible_1.42.0.tar.gz | 
| StartedAt: 2019-04-13 06:52:54 -0400 (Sat, 13 Apr 2019) | 
| EndedAt: 2019-04-13 06:53:41 -0400 (Sat, 13 Apr 2019) | 
| EllapsedTime: 47.4 seconds | 
| RetCode: 0 | 
| Status: OK | 
| PackageFile: AffyCompatible_1.42.0.zip | 
| PackageFileSize: 1.975 MiB | 
##############################################################################
##############################################################################
###
### Running command:
###
###   rm -rf AffyCompatible.buildbin-libdir && mkdir AffyCompatible.buildbin-libdir && C:\Users\biocbuild\bbs-3.8-bioc\R\bin\R.exe CMD INSTALL --merge-multiarch --build --library=AffyCompatible.buildbin-libdir AffyCompatible_1.42.0.tar.gz
###
##############################################################################
##############################################################################
install for i386
* installing *source* package 'AffyCompatible' ...
** R
** inst
** byte-compile and prepare package for lazy loading
** help
*** installing help indices
  converting help for package 'AffyCompatible'
    finding HTML links ... done
    AffyCompatible-class                    html  
    AffyCompatible-package                  html  
    NetAffxResource-class                   html  
    NetAffxResource                         html  
    accessors-NetAffxResource               html  
    readArr                                 html  
    readMage                                html  
    readNetAffx                             html  
    readXml                                 html  
    xclass                                  html  
    zzz-.TypedAssociation-class             html  
    zzz-ARRCompatibility-class              html  
    zzz-DTTCompatibility-class              html  
    zzz-NetAffxCompatibility-class          html  
    zzz                                     html  
** building package indices
** installing vignettes
** testing if installed package can be loaded
In R CMD INSTALL
install for x64
* installing *source* package 'AffyCompatible' ...
** testing if installed package can be loaded
* MD5 sums
packaged installation of 'AffyCompatible' as AffyCompatible_1.42.0.zip
* DONE (AffyCompatible)
In R CMD INSTALL
In R CMD INSTALL