| Back to Multiple platform build/check report for BioC 3.8 | 
 | 
This page was generated on 2019-04-16 11:59:49 -0400 (Tue, 16 Apr 2019).
| Package 82/1649 | Hostname | OS / Arch | INSTALL | BUILD | CHECK | BUILD BIN | ||||||
| ASpli 1.8.1 Estefania Mancini 
 | malbec1 | Linux (Ubuntu 16.04.6 LTS) / x86_64 | OK | OK | OK |  | ||||||
| merida1 | OS X 10.11.6 El Capitan / x86_64 | OK | OK | OK | [ OK ] |  | 
| Package: ASpli | 
| Version: 1.8.1 | 
| Command: rm -rf ASpli.buildbin-libdir && mkdir ASpli.buildbin-libdir && /Users/biocbuild/BBS/utils/build-universal.sh ASpli_1.8.1.tar.gz /Library/Frameworks/R.framework/Versions/Current/Resources/bin/R ASpli.buildbin-libdir | 
| StartedAt: 2019-04-16 03:41:53 -0400 (Tue, 16 Apr 2019) | 
| EndedAt: 2019-04-16 03:42:48 -0400 (Tue, 16 Apr 2019) | 
| EllapsedTime: 54.8 seconds | 
| RetCode: 0 | 
| Status: OK | 
| PackageFile: ASpli_1.8.1.tgz | 
| PackageFileSize: 1.969 MiB | 
############################################################################## ############################################################################## ### ### Running command: ### ### rm -rf ASpli.buildbin-libdir && mkdir ASpli.buildbin-libdir && /Users/biocbuild/BBS/utils/build-universal.sh ASpli_1.8.1.tar.gz /Library/Frameworks/R.framework/Versions/Current/Resources/bin/R ASpli.buildbin-libdir ### ############################################################################## ############################################################################## >>>>>>> >>>>>>> INSTALLATION WITH 'R CMD INSTALL --preclean --no-multiarch --library=ASpli.buildbin-libdir ASpli_1.8.1.tar.gz' >>>>>>> * installing *source* package ‘ASpli’ ... ** R ** inst ** byte-compile and prepare package for lazy loading ** help *** installing help indices ** building package indices ** installing vignettes ** testing if installed package can be loaded * DONE (ASpli)