| Back to Multiple platform build/check report for BioC 3.8 |
|
This page was generated on 2019-04-13 11:26:55 -0400 (Sat, 13 Apr 2019).
| Package 78/1649 | Hostname | OS / Arch | INSTALL | BUILD | CHECK | BUILD BIN | ||||||
| ASAFE 1.8.0 Qian Zhang
| malbec1 | Linux (Ubuntu 16.04.6 LTS) / x86_64 | OK | OK | OK | |||||||
| tokay1 | Windows Server 2012 R2 Standard / x64 | OK | OK | OK | [ OK ] | |||||||
| merida1 | OS X 10.11.6 El Capitan / x86_64 | OK | OK | OK | OK |
| Package: ASAFE |
| Version: 1.8.0 |
| Command: rm -rf ASAFE.buildbin-libdir && mkdir ASAFE.buildbin-libdir && C:\Users\biocbuild\bbs-3.8-bioc\R\bin\R.exe CMD INSTALL --merge-multiarch --build --library=ASAFE.buildbin-libdir ASAFE_1.8.0.tar.gz |
| StartedAt: 2019-04-13 06:54:46 -0400 (Sat, 13 Apr 2019) |
| EndedAt: 2019-04-13 06:55:04 -0400 (Sat, 13 Apr 2019) |
| EllapsedTime: 18.0 seconds |
| RetCode: 0 |
| Status: OK |
| PackageFile: ASAFE_1.8.0.zip |
| PackageFileSize: 612.5 KiB |
##############################################################################
##############################################################################
###
### Running command:
###
### rm -rf ASAFE.buildbin-libdir && mkdir ASAFE.buildbin-libdir && C:\Users\biocbuild\bbs-3.8-bioc\R\bin\R.exe CMD INSTALL --merge-multiarch --build --library=ASAFE.buildbin-libdir ASAFE_1.8.0.tar.gz
###
##############################################################################
##############################################################################
install for i386
* installing *source* package 'ASAFE' ...
** R
** data
*** moving datasets to lazyload DB
** inst
** byte-compile and prepare package for lazy loading
** help
*** installing help indices
converting help for package 'ASAFE'
finding HTML links ... done
adm_ancestries_test html
adm_genotypes_test html
algorithm_1snp html
algorithm_1snp_wrapper html
** building package indices
** installing vignettes
** testing if installed package can be loaded
In R CMD INSTALL
install for x64
* installing *source* package 'ASAFE' ...
** testing if installed package can be loaded
* MD5 sums
packaged installation of 'ASAFE' as ASAFE_1.8.0.zip
* DONE (ASAFE)
In R CMD INSTALL
In R CMD INSTALL