| Back to Multiple platform build/check report for BioC 3.8 |
|
This page was generated on 2019-04-16 11:59:45 -0400 (Tue, 16 Apr 2019).
| Package 43/1649 | Hostname | OS / Arch | INSTALL | BUILD | CHECK | BUILD BIN | ||||||
| AMOUNTAIN 1.8.0 Dong Li
| malbec1 | Linux (Ubuntu 16.04.6 LTS) / x86_64 | OK | OK | OK | |||||||
| merida1 | OS X 10.11.6 El Capitan / x86_64 | OK | [ OK ] | OK | OK |
| Package: AMOUNTAIN |
| Version: 1.8.0 |
| Command: /Library/Frameworks/R.framework/Versions/Current/Resources/bin/R CMD build --keep-empty-dirs --no-resave-data AMOUNTAIN |
| StartedAt: 2019-04-15 20:59:30 -0400 (Mon, 15 Apr 2019) |
| EndedAt: 2019-04-15 20:59:59 -0400 (Mon, 15 Apr 2019) |
| EllapsedTime: 28.6 seconds |
| RetCode: 0 |
| Status: OK |
| PackageFile: AMOUNTAIN_1.8.0.tar.gz |
| PackageFileSize: 1.941 MiB |
##############################################################################
##############################################################################
###
### Running command:
###
### /Library/Frameworks/R.framework/Versions/Current/Resources/bin/R CMD build --keep-empty-dirs --no-resave-data AMOUNTAIN
###
##############################################################################
##############################################################################
* checking for file ‘AMOUNTAIN/DESCRIPTION’ ... OK
* preparing ‘AMOUNTAIN’:
* checking DESCRIPTION meta-information ... OK
* cleaning src
* installing the package to build vignettes
* creating vignettes ... OK
Warning: ‘inst/doc’ files
‘AMOUNTAIN.Rmd’, ‘AMOUNTAIN.html’
ignored as vignettes have been rebuilt.
Run R CMD build with --no-build-vignettes to prevent rebuilding.
* cleaning src
* checking for LF line-endings in source and make files and shell scripts
* checking for empty or unneeded directories
* building ‘AMOUNTAIN_1.8.0.tar.gz’