| Back to Multiple platform build/check report for BioC 3.8 |
|
This page was generated on 2019-04-13 11:24:24 -0400 (Sat, 13 Apr 2019).
| Package 38/1649 | Hostname | OS / Arch | INSTALL | BUILD | CHECK | BUILD BIN | ||||||
| ALDEx2 1.14.1 Greg Gloor
| malbec1 | Linux (Ubuntu 16.04.6 LTS) / x86_64 | OK | OK | OK | |||||||
| tokay1 | Windows Server 2012 R2 Standard / x64 | OK | OK | OK | [ OK ] | |||||||
| merida1 | OS X 10.11.6 El Capitan / x86_64 | OK | OK | OK | OK |
| Package: ALDEx2 |
| Version: 1.14.1 |
| Command: rm -rf ALDEx2.buildbin-libdir && mkdir ALDEx2.buildbin-libdir && C:\Users\biocbuild\bbs-3.8-bioc\R\bin\R.exe CMD INSTALL --merge-multiarch --build --library=ALDEx2.buildbin-libdir ALDEx2_1.14.1.tar.gz |
| StartedAt: 2019-04-13 06:53:25 -0400 (Sat, 13 Apr 2019) |
| EndedAt: 2019-04-13 06:53:52 -0400 (Sat, 13 Apr 2019) |
| EllapsedTime: 27.4 seconds |
| RetCode: 0 |
| Status: OK |
| PackageFile: ALDEx2_1.14.1.zip |
| PackageFileSize: 747.7 KiB |
##############################################################################
##############################################################################
###
### Running command:
###
### rm -rf ALDEx2.buildbin-libdir && mkdir ALDEx2.buildbin-libdir && C:\Users\biocbuild\bbs-3.8-bioc\R\bin\R.exe CMD INSTALL --merge-multiarch --build --library=ALDEx2.buildbin-libdir ALDEx2_1.14.1.tar.gz
###
##############################################################################
##############################################################################
install for i386
* installing *source* package 'ALDEx2' ...
** R
** data
** inst
** byte-compile and prepare package for lazy loading
** help
*** installing help indices
converting help for package 'ALDEx2'
finding HTML links ... done
ALDEx2m-package html
aldex html
aldex.clr-class html
aldex.clr.function-methods html
aldex.corr html
aldex.effect html
aldex.glm html
aldex.set.mode html
aldex.ttest html
getDenom-method html
getFeatureNames-method html
getFeatures-method html
getMonteCarloInstances-method html
getMonteCarloReplicate-method html
getReads-method html
getSampleIDs-method html
numConditions-method html
numFeatures-method html
numMCInstances-method html
plot.aldex html
selex html
synth2 html
** building package indices
** installing vignettes
** testing if installed package can be loaded
In R CMD INSTALL
install for x64
* installing *source* package 'ALDEx2' ...
** testing if installed package can be loaded
* MD5 sums
packaged installation of 'ALDEx2' as ALDEx2_1.14.1.zip
* DONE (ALDEx2)
In R CMD INSTALL
In R CMD INSTALL