| Back to Multiple platform build/check report for BioC 3.8 | 
 | 
This page was generated on 2019-04-16 12:11:10 -0400 (Tue, 16 Apr 2019).
| Package 12/1649 | Hostname | OS / Arch | INSTALL | BUILD | CHECK | BUILD BIN | ||||||
| ACE 1.0.0 Jos B Poell 
 | malbec1 | Linux (Ubuntu 16.04.6 LTS) / x86_64 | OK | OK | OK |  | ||||||
| merida1 | OS X 10.11.6 El Capitan / x86_64 | OK | OK | OK | [ OK ] |  | 
| Package: ACE | 
| Version: 1.0.0 | 
| Command: rm -rf ACE.buildbin-libdir && mkdir ACE.buildbin-libdir && /Users/biocbuild/BBS/utils/build-universal.sh ACE_1.0.0.tar.gz /Library/Frameworks/R.framework/Versions/Current/Resources/bin/R ACE.buildbin-libdir | 
| StartedAt: 2019-04-16 03:38:38 -0400 (Tue, 16 Apr 2019) | 
| EndedAt: 2019-04-16 03:39:02 -0400 (Tue, 16 Apr 2019) | 
| EllapsedTime: 24.3 seconds | 
| RetCode: 0 | 
| Status: OK | 
| PackageFile: ACE_1.0.0.tgz | 
| PackageFileSize: 2.891 MiB | 
############################################################################## ############################################################################## ### ### Running command: ### ### rm -rf ACE.buildbin-libdir && mkdir ACE.buildbin-libdir && /Users/biocbuild/BBS/utils/build-universal.sh ACE_1.0.0.tar.gz /Library/Frameworks/R.framework/Versions/Current/Resources/bin/R ACE.buildbin-libdir ### ############################################################################## ############################################################################## >>>>>>> >>>>>>> INSTALLATION WITH 'R CMD INSTALL --preclean --no-multiarch --library=ACE.buildbin-libdir ACE_1.0.0.tar.gz' >>>>>>> * installing *source* package ‘ACE’ ... ** R ** data *** moving datasets to lazyload DB ** inst ** byte-compile and prepare package for lazy loading ** help *** installing help indices ** building package indices ** installing vignettes ** testing if installed package can be loaded * DONE (ACE)