| Back to Multiple platform build/check report for BioC 3.8 | 
  | 
This page was generated on 2019-04-13 11:19:13 -0400 (Sat, 13 Apr 2019).
| Package 1633/1649 | Hostname | OS / Arch | INSTALL | BUILD | CHECK | BUILD BIN | ||||||
| widgetTools 1.60.0 Jianhua Zhang 
  | malbec1 | Linux (Ubuntu 16.04.6 LTS) / x86_64 | OK | OK | NA | |||||||
| tokay1 | Windows Server 2012 R2 Standard / x64 | [ OK ] | OK | OK | OK | |||||||
| merida1 | OS X 10.11.6 El Capitan / x86_64 | OK | OK | OK | OK | 
| Package: widgetTools | 
| Version: 1.60.0 | 
| Command: C:\cygwin\bin\curl.exe -O https://malbec1.bioconductor.org/BBS/3.8/bioc/src/contrib/widgetTools_1.60.0.tar.gz && rm -rf widgetTools.buildbin-libdir && mkdir widgetTools.buildbin-libdir && C:\Users\biocbuild\bbs-3.8-bioc\R\bin\R.exe CMD INSTALL --merge-multiarch --build --library=widgetTools.buildbin-libdir widgetTools_1.60.0.tar.gz && C:\Users\biocbuild\bbs-3.8-bioc\R\bin\R.exe CMD INSTALL widgetTools_1.60.0.zip && rm widgetTools_1.60.0.tar.gz widgetTools_1.60.0.zip | 
| StartedAt: 2019-04-12 18:27:18 -0400 (Fri, 12 Apr 2019) | 
| EndedAt: 2019-04-12 18:27:47 -0400 (Fri, 12 Apr 2019) | 
| EllapsedTime: 29.3 seconds | 
| RetCode: 0 | 
| Status: OK | 
##############################################################################
##############################################################################
###
### Running command:
###
###   C:\cygwin\bin\curl.exe -O https://malbec1.bioconductor.org/BBS/3.8/bioc/src/contrib/widgetTools_1.60.0.tar.gz && rm -rf widgetTools.buildbin-libdir && mkdir widgetTools.buildbin-libdir && C:\Users\biocbuild\bbs-3.8-bioc\R\bin\R.exe CMD INSTALL --merge-multiarch --build --library=widgetTools.buildbin-libdir widgetTools_1.60.0.tar.gz && C:\Users\biocbuild\bbs-3.8-bioc\R\bin\R.exe CMD INSTALL widgetTools_1.60.0.zip && rm widgetTools_1.60.0.tar.gz widgetTools_1.60.0.zip
###
##############################################################################
##############################################################################
  % Total    % Received % Xferd  Average Speed   Time    Time     Time  Current
                                 Dload  Upload   Total   Spent    Left  Speed
  0     0    0     0    0     0      0      0 --:--:-- --:--:-- --:--:--     0
100 36032  100 36032    0     0  1071k      0 --:--:-- --:--:-- --:--:-- 1213k
install for i386
* installing *source* package 'widgetTools' ...
** R
** byte-compile and prepare package for lazy loading
** help
*** installing help indices
  converting help for package 'widgetTools'
    finding HTML links ... done
    basicPW-class                           html  
    button                                  html  
    dropdownList                            html  
    makeViewer                              html  
    oneVScrList                             html  
    safeFileOpen                            html  
    tooltip                                 html  
    widget-class                            html  
    widgetView-class                        html  
    writeText                               html  
** building package indices
** installing vignettes
** testing if installed package can be loaded
In R CMD INSTALL
install for x64
* installing *source* package 'widgetTools' ...
** testing if installed package can be loaded
* MD5 sums
packaged installation of 'widgetTools' as widgetTools_1.60.0.zip
* DONE (widgetTools)
In R CMD INSTALL
In R CMD INSTALL
* installing to library 'C:/Users/biocbuild/bbs-3.8-bioc/R/library'
package 'widgetTools' successfully unpacked and MD5 sums checked
In R CMD INSTALL