| Back to Multiple platform build/check report for BioC 3.8 |
|
This page was generated on 2019-04-13 11:25:44 -0400 (Sat, 13 Apr 2019).
| Package 1616/1649 | Hostname | OS / Arch | INSTALL | BUILD | CHECK | BUILD BIN | ||||||
| variancePartition 1.12.3 Gabriel E. Hoffman
| malbec1 | Linux (Ubuntu 16.04.6 LTS) / x86_64 | OK | OK | NA | |||||||
| tokay1 | Windows Server 2012 R2 Standard / x64 | [ OK ] | OK | OK | OK | |||||||
| merida1 | OS X 10.11.6 El Capitan / x86_64 | OK | OK | OK | OK |
| Package: variancePartition |
| Version: 1.12.3 |
| Command: C:\cygwin\bin\curl.exe -O https://malbec1.bioconductor.org/BBS/3.8/bioc/src/contrib/variancePartition_1.12.3.tar.gz && rm -rf variancePartition.buildbin-libdir && mkdir variancePartition.buildbin-libdir && C:\Users\biocbuild\bbs-3.8-bioc\R\bin\R.exe CMD INSTALL --merge-multiarch --build --library=variancePartition.buildbin-libdir variancePartition_1.12.3.tar.gz && C:\Users\biocbuild\bbs-3.8-bioc\R\bin\R.exe CMD INSTALL variancePartition_1.12.3.zip && rm variancePartition_1.12.3.tar.gz variancePartition_1.12.3.zip |
| StartedAt: 2019-04-12 19:33:58 -0400 (Fri, 12 Apr 2019) |
| EndedAt: 2019-04-12 19:34:50 -0400 (Fri, 12 Apr 2019) |
| EllapsedTime: 51.8 seconds |
| RetCode: 0 |
| Status: OK |
##############################################################################
##############################################################################
###
### Running command:
###
### C:\cygwin\bin\curl.exe -O https://malbec1.bioconductor.org/BBS/3.8/bioc/src/contrib/variancePartition_1.12.3.tar.gz && rm -rf variancePartition.buildbin-libdir && mkdir variancePartition.buildbin-libdir && C:\Users\biocbuild\bbs-3.8-bioc\R\bin\R.exe CMD INSTALL --merge-multiarch --build --library=variancePartition.buildbin-libdir variancePartition_1.12.3.tar.gz && C:\Users\biocbuild\bbs-3.8-bioc\R\bin\R.exe CMD INSTALL variancePartition_1.12.3.zip && rm variancePartition_1.12.3.tar.gz variancePartition_1.12.3.zip
###
##############################################################################
##############################################################################
% Total % Received % Xferd Average Speed Time Time Time Current
Dload Upload Total Spent Left Speed
0 0 0 0 0 0 0 0 --:--:-- --:--:-- --:--:-- 0
100 1365k 100 1365k 0 0 24.8M 0 --:--:-- --:--:-- --:--:-- 26.6M
install for i386
* installing *source* package 'variancePartition' ...
** R
** data
** inst
** byte-compile and prepare package for lazy loading
Creating a generic function for 'eBayes' from package 'limma' in package 'variancePartition'
** help
*** installing help indices
converting help for package 'variancePartition'
finding HTML links ... done
ESS-method html
MArrayLM2-class html
VarParCIList-class html
VarParFitList-class html
as.data.frame-varPartResults-method html
as.matrix-varPartResults-method html
calcVarPart-method html
canCorPairs html
colinearityScore html
dream-method html
eBayes-method html
extractVarPart html
fitExtractVarPartModel-method html
fitVarPartModel-method html
getContrast-method html
getVarianceComponents html
ggColorHue html
plotCompareP-method html
plotContrasts html
plotCorrMatrix html
plotCorrStructure html
plotPercentBars html
plotStratify html
plotStratifyBy html
plotVarPart-method html
residuals-VarParFitList-method html
sortCols-method html
subset.MArrayLM2-method html
varParFrac-class html
varPartConfInf html
varPartDEdata html
varPartData html
varPartResults-class html
** building package indices
** installing vignettes
** testing if installed package can be loaded
In R CMD INSTALL
install for x64
* installing *source* package 'variancePartition' ...
** testing if installed package can be loaded
* MD5 sums
packaged installation of 'variancePartition' as variancePartition_1.12.3.zip
* DONE (variancePartition)
In R CMD INSTALL
In R CMD INSTALL
* installing to library 'C:/Users/biocbuild/bbs-3.8-bioc/R/library'
package 'variancePartition' successfully unpacked and MD5 sums checked
In R CMD INSTALL