Back to Multiple platform build/check report for BioC 3.8 |
|
This page was generated on 2019-04-13 11:23:34 -0400 (Sat, 13 Apr 2019).
Package 1610/1649 | Hostname | OS / Arch | INSTALL | BUILD | CHECK | BUILD BIN | ||||||
unifiedWMWqPCR 1.18.0 Joris Meys
| malbec1 | Linux (Ubuntu 16.04.6 LTS) / x86_64 | OK | OK | NA | |||||||
tokay1 | Windows Server 2012 R2 Standard / x64 | [ OK ] | OK | OK | OK | ![]() | ||||||
merida1 | OS X 10.11.6 El Capitan / x86_64 | OK | OK | OK | OK | ![]() |
Package: unifiedWMWqPCR |
Version: 1.18.0 |
Command: C:\cygwin\bin\curl.exe -O https://malbec1.bioconductor.org/BBS/3.8/bioc/src/contrib/unifiedWMWqPCR_1.18.0.tar.gz && rm -rf unifiedWMWqPCR.buildbin-libdir && mkdir unifiedWMWqPCR.buildbin-libdir && C:\Users\biocbuild\bbs-3.8-bioc\R\bin\R.exe CMD INSTALL --merge-multiarch --build --library=unifiedWMWqPCR.buildbin-libdir unifiedWMWqPCR_1.18.0.tar.gz && C:\Users\biocbuild\bbs-3.8-bioc\R\bin\R.exe CMD INSTALL unifiedWMWqPCR_1.18.0.zip && rm unifiedWMWqPCR_1.18.0.tar.gz unifiedWMWqPCR_1.18.0.zip |
StartedAt: 2019-04-12 19:19:18 -0400 (Fri, 12 Apr 2019) |
EndedAt: 2019-04-12 19:19:49 -0400 (Fri, 12 Apr 2019) |
EllapsedTime: 31.0 seconds |
RetCode: 0 |
Status: OK |
############################################################################## ############################################################################## ### ### Running command: ### ### C:\cygwin\bin\curl.exe -O https://malbec1.bioconductor.org/BBS/3.8/bioc/src/contrib/unifiedWMWqPCR_1.18.0.tar.gz && rm -rf unifiedWMWqPCR.buildbin-libdir && mkdir unifiedWMWqPCR.buildbin-libdir && C:\Users\biocbuild\bbs-3.8-bioc\R\bin\R.exe CMD INSTALL --merge-multiarch --build --library=unifiedWMWqPCR.buildbin-libdir unifiedWMWqPCR_1.18.0.tar.gz && C:\Users\biocbuild\bbs-3.8-bioc\R\bin\R.exe CMD INSTALL unifiedWMWqPCR_1.18.0.zip && rm unifiedWMWqPCR_1.18.0.tar.gz unifiedWMWqPCR_1.18.0.zip ### ############################################################################## ############################################################################## % Total % Received % Xferd Average Speed Time Time Time Current Dload Upload Total Spent Left Speed 0 0 0 0 0 0 0 0 --:--:-- --:--:-- --:--:-- 0 100 310k 100 310k 0 0 6530k 0 --:--:-- --:--:-- --:--:-- 7048k install for i386 * installing *source* package 'unifiedWMWqPCR' ... ** R ** data ** inst ** byte-compile and prepare package for lazy loading Creating a generic function for 'order' from package 'base' in package 'unifiedWMWqPCR' ** help *** installing help indices converting help for package 'unifiedWMWqPCR' finding HTML links ... done NBdata html as.matrix.uwmwEstimate html as.matrix.uwmwRes html forestplot-methods html getEstimate-methods html plot html sort_uwmwRes html uWMW-methods html unifiedWMWqPCR-package html uwmwEstimate-class html uwmwRes-class html uwmw_Accessors html uwmw_Extract html volcanopar html volcanoplot-methods html ** building package indices ** installing vignettes ** testing if installed package can be loaded In R CMD INSTALL install for x64 * installing *source* package 'unifiedWMWqPCR' ... ** testing if installed package can be loaded * MD5 sums packaged installation of 'unifiedWMWqPCR' as unifiedWMWqPCR_1.18.0.zip * DONE (unifiedWMWqPCR) In R CMD INSTALL In R CMD INSTALL * installing to library 'C:/Users/biocbuild/bbs-3.8-bioc/R/library' package 'unifiedWMWqPCR' successfully unpacked and MD5 sums checked In R CMD INSTALL