Back to Multiple platform build/check report for BioC 3.8 |
|
This page was generated on 2019-04-16 11:47:57 -0400 (Tue, 16 Apr 2019).
Package 1602/1649 | Hostname | OS / Arch | INSTALL | BUILD | CHECK | BUILD BIN | ||||||
twilight 1.58.0 Stefanie Scheid
| malbec1 | Linux (Ubuntu 16.04.6 LTS) / x86_64 | [ OK ] | OK | OK | ![]() | ||||||
merida1 | OS X 10.11.6 El Capitan / x86_64 | OK | OK | WARNINGS | OK | ![]() |
Package: twilight |
Version: 1.58.0 |
Command: /home/biocbuild/bbs-3.8-bioc/R/bin/R CMD INSTALL twilight |
StartedAt: 2019-04-15 17:58:28 -0400 (Mon, 15 Apr 2019) |
EndedAt: 2019-04-15 17:58:33 -0400 (Mon, 15 Apr 2019) |
EllapsedTime: 5.3 seconds |
RetCode: 0 |
Status: OK |
############################################################################## ############################################################################## ### ### Running command: ### ### /home/biocbuild/bbs-3.8-bioc/R/bin/R CMD INSTALL twilight ### ############################################################################## ############################################################################## * installing to library ‘/home/biocbuild/bbs-3.8-bioc/R/library’ * installing *source* package ‘twilight’ ... ** libs gcc -I"/home/biocbuild/bbs-3.8-bioc/R/include" -DNDEBUG -I/usr/local/include -fpic -g -O2 -Wall -c confidence.line.c -o confidence.line.o gcc -I"/home/biocbuild/bbs-3.8-bioc/R/include" -DNDEBUG -I/usr/local/include -fpic -g -O2 -Wall -c correlation.c -o correlation.o gcc -I"/home/biocbuild/bbs-3.8-bioc/R/include" -DNDEBUG -I/usr/local/include -fpic -g -O2 -Wall -c kstest.c -o kstest.o gcc -I"/home/biocbuild/bbs-3.8-bioc/R/include" -DNDEBUG -I/usr/local/include -fpic -g -O2 -Wall -c sep.c -o sep.o gcc -I"/home/biocbuild/bbs-3.8-bioc/R/include" -DNDEBUG -I/usr/local/include -fpic -g -O2 -Wall -c twosample.perm.c -o twosample.perm.o gcc -I"/home/biocbuild/bbs-3.8-bioc/R/include" -DNDEBUG -I/usr/local/include -fpic -g -O2 -Wall -c twosample.single.c -o twosample.single.o gcc -shared -L/home/biocbuild/bbs-3.8-bioc/R/lib -L/usr/local/lib -o twilight.so confidence.line.o correlation.o kstest.o sep.o twosample.perm.o twosample.single.o -L/home/biocbuild/bbs-3.8-bioc/R/lib -lR installing to /home/biocbuild/bbs-3.8-bioc/R/library/twilight/libs ** R ** data ** inst ** byte-compile and prepare package for lazy loading ** help *** installing help indices ** building package indices ** installing vignettes ** testing if installed package can be loaded * DONE (twilight)