Back to Multiple platform build/check report for BioC 3.8 |
|
This page was generated on 2019-04-16 12:03:38 -0400 (Tue, 16 Apr 2019).
Package 1577/1649 | Hostname | OS / Arch | INSTALL | BUILD | CHECK | BUILD BIN | ||||||
transcriptogramer 1.4.1 Diego Morais
| malbec1 | Linux (Ubuntu 16.04.6 LTS) / x86_64 | OK | OK | OK | ![]() | ||||||
merida1 | OS X 10.11.6 El Capitan / x86_64 | OK | OK | [ OK ] | OK | ![]() |
Package: transcriptogramer |
Version: 1.4.1 |
Command: /Library/Frameworks/R.framework/Versions/Current/Resources/bin/R CMD check --install=check:transcriptogramer.install-out.txt --library=/Library/Frameworks/R.framework/Versions/Current/Resources/library --no-vignettes --timings transcriptogramer_1.4.1.tar.gz |
StartedAt: 2019-04-16 03:11:29 -0400 (Tue, 16 Apr 2019) |
EndedAt: 2019-04-16 03:15:05 -0400 (Tue, 16 Apr 2019) |
EllapsedTime: 216.0 seconds |
RetCode: 0 |
Status: OK |
CheckDir: transcriptogramer.Rcheck |
Warnings: 0 |
############################################################################## ############################################################################## ### ### Running command: ### ### /Library/Frameworks/R.framework/Versions/Current/Resources/bin/R CMD check --install=check:transcriptogramer.install-out.txt --library=/Library/Frameworks/R.framework/Versions/Current/Resources/library --no-vignettes --timings transcriptogramer_1.4.1.tar.gz ### ############################################################################## ############################################################################## * using log directory ‘/Users/biocbuild/bbs-3.8-bioc/meat/transcriptogramer.Rcheck’ * using R version 3.5.3 (2019-03-11) * using platform: x86_64-apple-darwin15.6.0 (64-bit) * using session charset: UTF-8 * using option ‘--no-vignettes’ * checking for file ‘transcriptogramer/DESCRIPTION’ ... OK * checking extension type ... Package * this is package ‘transcriptogramer’ version ‘1.4.1’ * package encoding: UTF-8 * checking package namespace information ... OK * checking package dependencies ... OK * checking if this is a source package ... OK * checking if there is a namespace ... OK * checking for hidden files and directories ... OK * checking for portable file names ... OK * checking for sufficient/correct file permissions ... OK * checking whether package ‘transcriptogramer’ can be installed ... OK * checking installed package size ... OK * checking package directory ... OK * checking ‘build’ directory ... OK * checking DESCRIPTION meta-information ... OK * checking top-level files ... OK * checking for left-over files ... OK * checking index information ... OK * checking package subdirectories ... OK * checking R files for non-ASCII characters ... OK * checking R files for syntax errors ... OK * checking whether the package can be loaded ... OK * checking whether the package can be loaded with stated dependencies ... OK * checking whether the package can be unloaded cleanly ... OK * checking whether the namespace can be loaded with stated dependencies ... OK * checking whether the namespace can be unloaded cleanly ... OK * checking dependencies in R code ... OK * checking S3 generic/method consistency ... OK * checking replacement functions ... OK * checking foreign function calls ... OK * checking R code for possible problems ... OK * checking Rd files ... OK * checking Rd metadata ... OK * checking Rd cross-references ... OK * checking for missing documentation entries ... OK * checking for code/documentation mismatches ... OK * checking Rd \usage sections ... OK * checking Rd contents ... OK * checking for unstated dependencies in examples ... OK * checking contents of ‘data’ directory ... OK * checking data for non-ASCII characters ... OK * checking data for ASCII and uncompressed saves ... OK * checking files in ‘vignettes’ ... OK * checking examples ... OK * checking for unstated dependencies in ‘tests’ ... OK * checking tests ... Running ‘runTests.R’ OK * checking for unstated dependencies in vignettes ... OK * checking package vignettes in ‘inst/doc’ ... OK * checking running R code from vignettes ... SKIPPED * checking re-building of vignette outputs ... SKIPPED * checking PDF version of manual ... OK * DONE Status: OK
transcriptogramer.Rcheck/00install.out
############################################################################## ############################################################################## ### ### Running command: ### ### /Library/Frameworks/R.framework/Versions/Current/Resources/bin/R CMD INSTALL transcriptogramer ### ############################################################################## ############################################################################## * installing to library ‘/Library/Frameworks/R.framework/Versions/3.5/Resources/library’ * installing *source* package ‘transcriptogramer’ ... ** R ** data *** moving datasets to lazyload DB ** inst ** byte-compile and prepare package for lazy loading ** help *** installing help indices ** building package indices ** installing vignettes ** testing if installed package can be loaded * DONE (transcriptogramer)
transcriptogramer.Rcheck/tests/runTests.Rout
R version 3.5.3 (2019-03-11) -- "Great Truth" Copyright (C) 2019 The R Foundation for Statistical Computing Platform: x86_64-apple-darwin15.6.0 (64-bit) R is free software and comes with ABSOLUTELY NO WARRANTY. You are welcome to redistribute it under certain conditions. Type 'license()' or 'licence()' for distribution details. R is a collaborative project with many contributors. Type 'contributors()' for more information and 'citation()' on how to cite R or R packages in publications. Type 'demo()' for some demos, 'help()' for on-line help, or 'help.start()' for an HTML browser interface to help. Type 'q()' to quit R. > BiocGenerics:::testPackage("transcriptogramer") preprocessing input data... step 1 of 1 calculating node properties... step 1 of 2 ** this may take some time... applying sliding window and mounting resulting data... step 2 of 2 ** this may take some time... done! mapping identifiers to ENSEMBL Peptide ID... step 1 of 2 averaging over all identifiers related to the same protein... step 2 of 2 done! applying sliding window and mounting resulting data... step 1 of 1 done! RUNIT TEST PROTOCOL -- Tue Apr 16 03:14:58 2019 *********************************************** Number of test functions: 3 Number of errors: 0 Number of failures: 0 1 Test Suite : transcriptogramer RUnit Tests - 3 test functions, 0 errors, 0 failures Number of test functions: 3 Number of errors: 0 Number of failures: 0 > > proc.time() user system elapsed 11.363 1.155 74.073
transcriptogramer.Rcheck/transcriptogramer-Ex.timings
name | user | system | elapsed | |
DE-method | 1.160 | 0.060 | 1.237 | |
DEsymbols | 0.469 | 0.107 | 0.590 | |
GPL570 | 1.571 | 0.331 | 1.915 | |
GSE9988 | 1.462 | 0.445 | 1.931 | |
Hs700 | 0.312 | 0.096 | 0.411 | |
Hs800 | 0.225 | 0.061 | 0.290 | |
Hs900 | 0.177 | 0.052 | 0.230 | |
HsBPTerms | 2.294 | 0.521 | 2.846 | |
Mm700 | 0.344 | 0.104 | 0.449 | |
Mm800 | 0.274 | 0.085 | 0.361 | |
Mm900 | 0.240 | 0.082 | 0.323 | |
Rn700 | 0.321 | 0.100 | 0.428 | |
Rn800 | 0.288 | 0.084 | 0.376 | |
Rn900 | 0.209 | 0.062 | 0.272 | |
Sc700 | 0.082 | 0.034 | 0.119 | |
Sc800 | 0.068 | 0.026 | 0.094 | |
Sc900 | 0.060 | 0.023 | 0.084 | |
Terms-method | 0.079 | 0.009 | 0.088 | |
association | 0.029 | 0.017 | 0.019 | |
clusterEnrichment-method | 0.457 | 0.449 | 0.152 | |
clusterVisualization-method | 0.429 | 0.103 | 0.364 | |
connectivityProperties-method | 0.039 | 0.010 | 0.051 | |
differentiallyExpressed-method | 0.066 | 0.017 | 0.084 | |
enrichmentPlot-method | 0.046 | 0.003 | 0.049 | |
orderingProperties-method | 0.058 | 0.004 | 0.063 | |
radius-method | 0.036 | 0.000 | 0.039 | |
transcriptogramPreprocess | 0.063 | 0.002 | 0.066 | |
transcriptogramStep1-method | 0.060 | 0.000 | 0.061 | |
transcriptogramStep2-method | 0.067 | 0.004 | 0.071 | |