| Back to Multiple platform build/check report for BioC 3.8 |
|
This page was generated on 2019-04-16 12:00:23 -0400 (Tue, 16 Apr 2019).
| Package 1534/1649 | Hostname | OS / Arch | INSTALL | BUILD | CHECK | BUILD BIN | ||||||
| swfdr 1.8.0 Simina M. Boca
| malbec1 | Linux (Ubuntu 16.04.6 LTS) / x86_64 | OK | OK | OK | |||||||
| merida1 | OS X 10.11.6 El Capitan / x86_64 | OK | [ OK ] | OK | OK |
| Package: swfdr |
| Version: 1.8.0 |
| Command: /Library/Frameworks/R.framework/Versions/Current/Resources/bin/R CMD build --keep-empty-dirs --no-resave-data swfdr |
| StartedAt: 2019-04-15 21:16:12 -0400 (Mon, 15 Apr 2019) |
| EndedAt: 2019-04-15 21:17:22 -0400 (Mon, 15 Apr 2019) |
| EllapsedTime: 69.7 seconds |
| RetCode: 0 |
| Status: OK |
| PackageFile: swfdr_1.8.0.tar.gz |
| PackageFileSize: 957.1 KiB |
##############################################################################
##############################################################################
###
### Running command:
###
### /Library/Frameworks/R.framework/Versions/Current/Resources/bin/R CMD build --keep-empty-dirs --no-resave-data swfdr
###
##############################################################################
##############################################################################
* checking for file ‘swfdr/DESCRIPTION’ ... OK
* preparing ‘swfdr’:
* checking DESCRIPTION meta-information ... OK
* installing the package to build vignettes
* creating vignettes ... OK
Warning: ‘inst/doc’ files
‘swfdrTutorial.pdf’, ‘swfdrTutorial.R’
ignored as vignettes have been rebuilt.
Run R CMD build with --no-build-vignettes to prevent rebuilding.
* checking for LF line-endings in source and make files and shell scripts
* checking for empty or unneeded directories
* looking to see if a ‘data/datalist’ file should be added
* building ‘swfdr_1.8.0.tar.gz’