| Back to Multiple platform build/check report for BioC 3.8 | 
  | 
This page was generated on 2019-04-13 11:26:04 -0400 (Sat, 13 Apr 2019).
| Package 1523/1649 | Hostname | OS / Arch | INSTALL | BUILD | CHECK | BUILD BIN | ||||||
| subSeq 1.12.1 Andrew J. Bass 
  | malbec1 | Linux (Ubuntu 16.04.6 LTS) / x86_64 | OK | OK | NA | |||||||
| tokay1 | Windows Server 2012 R2 Standard / x64 | OK | OK | OK | [ OK ] | |||||||
| merida1 | OS X 10.11.6 El Capitan / x86_64 | OK | OK | OK | OK | 
| Package: subSeq | 
| Version: 1.12.1 | 
| Command: rm -rf subSeq.buildbin-libdir && mkdir subSeq.buildbin-libdir && C:\Users\biocbuild\bbs-3.8-bioc\R\bin\R.exe CMD INSTALL --merge-multiarch --build --library=subSeq.buildbin-libdir subSeq_1.12.1.tar.gz | 
| StartedAt: 2019-04-13 08:00:16 -0400 (Sat, 13 Apr 2019) | 
| EndedAt: 2019-04-13 08:00:29 -0400 (Sat, 13 Apr 2019) | 
| EllapsedTime: 12.7 seconds | 
| RetCode: 0 | 
| Status: OK | 
| PackageFile: subSeq_1.12.1.zip | 
| PackageFileSize: 2.945 MiB | 
##############################################################################
##############################################################################
###
### Running command:
###
###   rm -rf subSeq.buildbin-libdir && mkdir subSeq.buildbin-libdir && C:\Users\biocbuild\bbs-3.8-bioc\R\bin\R.exe CMD INSTALL --merge-multiarch --build --library=subSeq.buildbin-libdir subSeq_1.12.1.tar.gz
###
##############################################################################
##############################################################################
install for i386
* installing *source* package 'subSeq' ...
** R
** data
** inst
** byte-compile and prepare package for lazy loading
** help
*** installing help indices
  converting help for package 'subSeq'
    finding HTML links ... done
    combineSubsamples                       html  
    generateSubsampledMatrix                html  
    getSeed                                 html  
    hammer                                  html  
    plot.subsamples                         html  
    plot.summary.subsamples                 html  
    ss                                      html  
    subsample                               html  
    summary.subsamples                      html  
** building package indices
** installing vignettes
** testing if installed package can be loaded
In R CMD INSTALL
install for x64
* installing *source* package 'subSeq' ...
** testing if installed package can be loaded
* MD5 sums
packaged installation of 'subSeq' as subSeq_1.12.1.zip
* DONE (subSeq)
In R CMD INSTALL
In R CMD INSTALL