| Back to Multiple platform build/check report for BioC 3.8 | 
  | 
This page was generated on 2019-04-13 11:19:51 -0400 (Sat, 13 Apr 2019).
| Package 1505/1649 | Hostname | OS / Arch | INSTALL | BUILD | CHECK | BUILD BIN | ||||||
| sscore 1.54.0 Richard Kennedy 
  | malbec1 | Linux (Ubuntu 16.04.6 LTS) / x86_64 | OK | OK | NA | |||||||
| tokay1 | Windows Server 2012 R2 Standard / x64 | OK | OK | OK | [ OK ] | |||||||
| merida1 | OS X 10.11.6 El Capitan / x86_64 | OK | OK | OK | OK | 
| Package: sscore | 
| Version: 1.54.0 | 
| Command: rm -rf sscore.buildbin-libdir && mkdir sscore.buildbin-libdir && C:\Users\biocbuild\bbs-3.8-bioc\R\bin\R.exe CMD INSTALL --merge-multiarch --build --library=sscore.buildbin-libdir sscore_1.54.0.tar.gz | 
| StartedAt: 2019-04-13 07:59:44 -0400 (Sat, 13 Apr 2019) | 
| EndedAt: 2019-04-13 08:00:04 -0400 (Sat, 13 Apr 2019) | 
| EllapsedTime: 19.8 seconds | 
| RetCode: 0 | 
| Status: OK | 
| PackageFile: sscore_1.54.0.zip | 
| PackageFileSize: 269 KiB | 
##############################################################################
##############################################################################
###
### Running command:
###
###   rm -rf sscore.buildbin-libdir && mkdir sscore.buildbin-libdir && C:\Users\biocbuild\bbs-3.8-bioc\R\bin\R.exe CMD INSTALL --merge-multiarch --build --library=sscore.buildbin-libdir sscore_1.54.0.tar.gz
###
##############################################################################
##############################################################################
install for i386
* installing *source* package 'sscore' ...
** R
** inst
** byte-compile and prepare package for lazy loading
** help
*** installing help indices
  converting help for package 'sscore'
    finding HTML links ... done
    OneStepBiweightAlgorithm                html  
    SScore                                  html  
    SScoreBatch                             html  
    computeAffxRawQ                         html  
    computeAffxSFandSDT                     html  
    computeOutlier                          html  
    computeRawQ                             html  
    computeSFandSDT                         html  
    computeZoneIInfo                        html  
    computeZonenoise                        html  
    trimMean                                html  
** building package indices
** installing vignettes
** testing if installed package can be loaded
In R CMD INSTALL
install for x64
* installing *source* package 'sscore' ...
** testing if installed package can be loaded
* MD5 sums
packaged installation of 'sscore' as sscore_1.54.0.zip
* DONE (sscore)
In R CMD INSTALL
In R CMD INSTALL