| Back to Multiple platform build/check report for BioC 3.8 |
|
This page was generated on 2019-04-16 11:48:41 -0400 (Tue, 16 Apr 2019).
| Package 1490/1649 | Hostname | OS / Arch | INSTALL | BUILD | CHECK | BUILD BIN | ||||||
| spkTools 1.38.0 Matthew N McCall
| malbec1 | Linux (Ubuntu 16.04.6 LTS) / x86_64 | OK | OK | [ OK ] | |||||||
| merida1 | OS X 10.11.6 El Capitan / x86_64 | OK | OK | OK | OK |
| Package: spkTools |
| Version: 1.38.0 |
| Command: /home/biocbuild/bbs-3.8-bioc/R/bin/R CMD check --install=check:spkTools.install-out.txt --library=/home/biocbuild/bbs-3.8-bioc/R/library --no-vignettes --timings spkTools_1.38.0.tar.gz |
| StartedAt: 2019-04-16 03:13:18 -0400 (Tue, 16 Apr 2019) |
| EndedAt: 2019-04-16 03:14:20 -0400 (Tue, 16 Apr 2019) |
| EllapsedTime: 62.3 seconds |
| RetCode: 0 |
| Status: OK |
| CheckDir: spkTools.Rcheck |
| Warnings: 0 |
##############################################################################
##############################################################################
###
### Running command:
###
### /home/biocbuild/bbs-3.8-bioc/R/bin/R CMD check --install=check:spkTools.install-out.txt --library=/home/biocbuild/bbs-3.8-bioc/R/library --no-vignettes --timings spkTools_1.38.0.tar.gz
###
##############################################################################
##############################################################################
* using log directory ‘/home/biocbuild/bbs-3.8-bioc/meat/spkTools.Rcheck’
* using R version 3.5.3 (2019-03-11)
* using platform: x86_64-pc-linux-gnu (64-bit)
* using session charset: UTF-8
* using option ‘--no-vignettes’
* checking for file ‘spkTools/DESCRIPTION’ ... OK
* this is package ‘spkTools’ version ‘1.38.0’
* checking package namespace information ... OK
* checking package dependencies ... OK
* checking if this is a source package ... OK
* checking if there is a namespace ... OK
* checking for hidden files and directories ... OK
* checking for portable file names ... OK
* checking for sufficient/correct file permissions ... OK
* checking whether package ‘spkTools’ can be installed ... OK
* checking installed package size ... OK
* checking package directory ... OK
* checking ‘build’ directory ... OK
* checking DESCRIPTION meta-information ... NOTE
Package listed in more than one of Depends, Imports, Suggests, Enhances:
‘Biobase’
A package should be listed in only one of these fields.
* checking top-level files ... OK
* checking for left-over files ... OK
* checking index information ... OK
* checking package subdirectories ... OK
* checking R files for non-ASCII characters ... OK
* checking R files for syntax errors ... OK
* checking whether the package can be loaded ... OK
* checking whether the package can be loaded with stated dependencies ... OK
* checking whether the package can be unloaded cleanly ... OK
* checking whether the namespace can be loaded with stated dependencies ... OK
* checking whether the namespace can be unloaded cleanly ... OK
* checking dependencies in R code ... OK
* checking S3 generic/method consistency ... OK
* checking replacement functions ... OK
* checking foreign function calls ... OK
* checking R code for possible problems ... OK
* checking Rd files ... OK
* checking Rd metadata ... OK
* checking Rd cross-references ... OK
* checking for missing documentation entries ... OK
* checking for code/documentation mismatches ... OK
* checking Rd \usage sections ... OK
* checking Rd contents ... OK
* checking for unstated dependencies in examples ... OK
* checking contents of ‘data’ directory ... OK
* checking data for non-ASCII characters ... OK
* checking data for ASCII and uncompressed saves ... OK
* checking files in ‘vignettes’ ... OK
* checking examples ... OK
Examples with CPU or elapsed time > 5s
user system elapsed
spkTools 12.396 0.092 12.507
spkAll 11.008 0.012 11.049
* checking for unstated dependencies in vignettes ... OK
* checking package vignettes in ‘inst/doc’ ... OK
* checking running R code from vignettes ... SKIPPED
* checking re-building of vignette outputs ... SKIPPED
* checking PDF version of manual ... OK
* DONE
Status: 1 NOTE
See
‘/home/biocbuild/bbs-3.8-bioc/meat/spkTools.Rcheck/00check.log’
for details.
spkTools.Rcheck/00install.out
############################################################################## ############################################################################## ### ### Running command: ### ### /home/biocbuild/bbs-3.8-bioc/R/bin/R CMD INSTALL spkTools ### ############################################################################## ############################################################################## * installing to library ‘/home/biocbuild/bbs-3.8-bioc/R/library’ * installing *source* package ‘spkTools’ ... ** R ** data ** byte-compile and prepare package for lazy loading ** help *** installing help indices ** building package indices ** installing vignettes ** testing if installed package can be loaded * DONE (spkTools)
spkTools.Rcheck/spkTools-Ex.timings
| name | user | system | elapsed | |
| SpikeInExpressSet-class | 0.200 | 0.024 | 0.225 | |
| plotSpkBox | 0.668 | 0.024 | 0.693 | |
| spkAccSD | 0.132 | 0.000 | 0.132 | |
| spkAll | 11.008 | 0.012 | 11.049 | |
| spkAnova | 0.104 | 0.000 | 0.108 | |
| spkBal | 0.100 | 0.000 | 0.102 | |
| spkBox | 0.892 | 0.096 | 0.990 | |
| spkDensity | 0.180 | 0.000 | 0.177 | |
| spkGNN | 4.204 | 0.008 | 4.215 | |
| spkMA | 1.396 | 0.000 | 1.399 | |
| spkPair | 0.112 | 0.000 | 0.115 | |
| spkPairNS | 0.096 | 0.000 | 0.093 | |
| spkPot | 0.888 | 0.012 | 0.899 | |
| spkQuantile | 0.088 | 0.000 | 0.087 | |
| spkSlope | 0.092 | 0.000 | 0.091 | |
| spkTools | 12.396 | 0.092 | 12.507 | |
| spkVar | 0.100 | 0.000 | 0.102 | |
| summarySpkBox | 0.760 | 0.000 | 0.762 | |