| Back to Multiple platform build/check report for BioC 3.8 | 
 | 
This page was generated on 2019-04-16 11:58:35 -0400 (Tue, 16 Apr 2019).
| Package 1478/1649 | Hostname | OS / Arch | INSTALL | BUILD | CHECK | BUILD BIN | ||||||
| soGGi 1.14.0 Tom Carroll 
 | malbec1 | Linux (Ubuntu 16.04.6 LTS) / x86_64 | OK | OK | WARNINGS |  | ||||||
| merida1 | OS X 10.11.6 El Capitan / x86_64 | OK | OK | WARNINGS | [ OK ] |  | 
| Package: soGGi | 
| Version: 1.14.0 | 
| Command: rm -rf soGGi.buildbin-libdir && mkdir soGGi.buildbin-libdir && /Users/biocbuild/BBS/utils/build-universal.sh soGGi_1.14.0.tar.gz /Library/Frameworks/R.framework/Versions/Current/Resources/bin/R soGGi.buildbin-libdir | 
| StartedAt: 2019-04-16 04:46:44 -0400 (Tue, 16 Apr 2019) | 
| EndedAt: 2019-04-16 04:47:32 -0400 (Tue, 16 Apr 2019) | 
| EllapsedTime: 47.6 seconds | 
| RetCode: 0 | 
| Status: OK | 
| PackageFile: soGGi_1.14.0.tgz | 
| PackageFileSize: 3.602 MiB | 
############################################################################## ############################################################################## ### ### Running command: ### ### rm -rf soGGi.buildbin-libdir && mkdir soGGi.buildbin-libdir && /Users/biocbuild/BBS/utils/build-universal.sh soGGi_1.14.0.tar.gz /Library/Frameworks/R.framework/Versions/Current/Resources/bin/R soGGi.buildbin-libdir ### ############################################################################## ############################################################################## >>>>>>> >>>>>>> INSTALLATION WITH 'R CMD INSTALL --preclean --no-multiarch --library=soGGi.buildbin-libdir soGGi_1.14.0.tar.gz' >>>>>>> * installing *source* package ‘soGGi’ ... ** R ** data ** inst ** byte-compile and prepare package for lazy loading Warning: replacing previous import ‘ggplot2::Position’ by ‘BiocGenerics::Position’ when loading ‘soGGi’ ** help *** installing help indices ** building package indices ** installing vignettes ** testing if installed package can be loaded Warning: replacing previous import ‘ggplot2::Position’ by ‘BiocGenerics::Position’ when loading ‘soGGi’ * DONE (soGGi)