Back to Multiple platform build/check report for BioC 3.8 |
|
This page was generated on 2019-03-18 11:34:38 -0400 (Mon, 18 Mar 2019).
Package 1465/1649 | Hostname | OS / Arch | INSTALL | BUILD | CHECK | ||||||
slingshot 1.0.0 Kelly Street
| malbec1 | Linux (Ubuntu 16.04.6 LTS) / x86_64 | OK | OK | WARNINGS | ![]() | |||||
tokay1 | Windows Server 2012 R2 Standard / x64 | ERROR | OK | ERROR | |||||||
merida1 | OS X 10.11.6 El Capitan / x86_64 | OK | OK | WARNINGS | ![]() |
Package: slingshot |
Version: 1.0.0 |
Command: rm -rf slingshot.buildbin-libdir && mkdir slingshot.buildbin-libdir && /Users/biocbuild/BBS/utils/build-universal.sh slingshot_1.0.0.tar.gz /Library/Frameworks/R.framework/Versions/Current/Resources/bin/R slingshot.buildbin-libdir |
StartedAt: 2019-03-18 04:58:33 -0400 (Mon, 18 Mar 2019) |
EndedAt: 2019-03-18 04:59:22 -0400 (Mon, 18 Mar 2019) |
EllapsedTime: 48.3 seconds |
RetCode: 0 |
Status: OK |
PackageFile: slingshot_1.0.0.tgz |
PackageFileSize: 1.746 MiB |
############################################################################## ############################################################################## ### ### Running command: ### ### rm -rf slingshot.buildbin-libdir && mkdir slingshot.buildbin-libdir && /Users/biocbuild/BBS/utils/build-universal.sh slingshot_1.0.0.tar.gz /Library/Frameworks/R.framework/Versions/Current/Resources/bin/R slingshot.buildbin-libdir ### ############################################################################## ############################################################################## >>>>>>> >>>>>>> INSTALLATION WITH 'R CMD INSTALL --preclean --no-multiarch --library=slingshot.buildbin-libdir slingshot_1.0.0.tar.gz' >>>>>>> * installing *source* package ‘slingshot’ ... ** R ** data ** inst ** byte-compile and prepare package for lazy loading Warning: replacing previous import ‘SingleCellExperiment::weights’ by ‘stats::weights’ when loading ‘slingshot’ Warning in rgl.init(initValue, onlyNULL) : RGL: GLX extension missing on server Warning: 'rgl_init' failed, running with rgl.useNULL = TRUE ** help *** installing help indices ** building package indices ** installing vignettes ** testing if installed package can be loaded Warning: replacing previous import ‘SingleCellExperiment::weights’ by ‘stats::weights’ when loading ‘slingshot’ Warning in rgl.init(initValue, onlyNULL) : RGL: GLX extension missing on server Warning: 'rgl_init' failed, running with rgl.useNULL = TRUE * DONE (slingshot)