Back to Multiple platform build/check report for BioC 3.8 |
|
This page was generated on 2019-04-16 11:53:33 -0400 (Tue, 16 Apr 2019).
Package 1465/1649 | Hostname | OS / Arch | INSTALL | BUILD | CHECK | BUILD BIN | ||||||
slingshot 1.0.0 Kelly Street
| malbec1 | Linux (Ubuntu 16.04.6 LTS) / x86_64 | OK | [ OK ] | WARNINGS | ![]() | ||||||
merida1 | OS X 10.11.6 El Capitan / x86_64 | ERROR | ERROR | skipped | skipped |
Package: slingshot |
Version: 1.0.0 |
Command: /home/biocbuild/bbs-3.8-bioc/R/bin/R CMD build --keep-empty-dirs --no-resave-data slingshot |
StartedAt: 2019-04-15 21:46:40 -0400 (Mon, 15 Apr 2019) |
EndedAt: 2019-04-15 21:50:25 -0400 (Mon, 15 Apr 2019) |
EllapsedTime: 225.6 seconds |
RetCode: 0 |
Status: OK |
PackageFile: slingshot_1.0.0.tar.gz |
PackageFileSize: 641 KiB |
############################################################################## ############################################################################## ### ### Running command: ### ### /home/biocbuild/bbs-3.8-bioc/R/bin/R CMD build --keep-empty-dirs --no-resave-data slingshot ### ############################################################################## ############################################################################## * checking for file ‘slingshot/DESCRIPTION’ ... OK * preparing ‘slingshot’: * checking DESCRIPTION meta-information ... OK * installing the package to build vignettes * creating vignettes ... OK Warning: ‘inst/doc’ file ‘slingshot.html’ ignored as vignettes have been rebuilt. Run R CMD build with --no-build-vignettes to prevent rebuilding. * checking for LF line-endings in source and make files and shell scripts * checking for empty or unneeded directories * looking to see if a ‘data/datalist’ file should be added * building ‘slingshot_1.0.0.tar.gz’