Back to Multiple platform build/check report for BioC 3.8 |
|
This page was generated on 2019-04-13 11:29:14 -0400 (Sat, 13 Apr 2019).
Package 1458/1649 | Hostname | OS / Arch | INSTALL | BUILD | CHECK | BUILD BIN | ||||||
singleCellTK 1.2.3 David Jenkins
| malbec1 | Linux (Ubuntu 16.04.6 LTS) / x86_64 | OK | OK | NA | |||||||
tokay1 | Windows Server 2012 R2 Standard / x64 | OK | OK | OK | [ OK ] | ![]() | ||||||
merida1 | OS X 10.11.6 El Capitan / x86_64 | OK | OK | OK | OK | ![]() |
Package: singleCellTK |
Version: 1.2.3 |
Command: rm -rf singleCellTK.buildbin-libdir && mkdir singleCellTK.buildbin-libdir && C:\Users\biocbuild\bbs-3.8-bioc\R\bin\R.exe CMD INSTALL --merge-multiarch --build --library=singleCellTK.buildbin-libdir singleCellTK_1.2.3.tar.gz |
StartedAt: 2019-04-13 07:58:05 -0400 (Sat, 13 Apr 2019) |
EndedAt: 2019-04-13 07:58:28 -0400 (Sat, 13 Apr 2019) |
EllapsedTime: 23.0 seconds |
RetCode: 0 |
Status: OK |
PackageFile: singleCellTK_1.2.3.zip |
PackageFileSize: 2.255 MiB |
############################################################################## ############################################################################## ### ### Running command: ### ### rm -rf singleCellTK.buildbin-libdir && mkdir singleCellTK.buildbin-libdir && C:\Users\biocbuild\bbs-3.8-bioc\R\bin\R.exe CMD INSTALL --merge-multiarch --build --library=singleCellTK.buildbin-libdir singleCellTK_1.2.3.tar.gz ### ############################################################################## ############################################################################## install for i386 * installing *source* package 'singleCellTK' ... ** R ** data *** moving datasets to lazyload DB ** inst ** byte-compile and prepare package for lazy loading ** help *** installing help indices converting help for package 'singleCellTK' finding HTML links ... done ComBatSCE html DownsampleCells html DownsampleDepth html MAST html SCtkExperiment-class html SCtkExperiment html alignSingleCellData html calcEffectSizes html convertGeneIDs html createSCE html distinctColors html enrichRSCE html filterSCData html generateSimulatedData html getClusterInputData html getPCA html gsvaSCE html iterateSimulations html mouseBrainSubsetSCE html parseRsubreadLogs html pcaVariances-set html pcaVariances html plotBatchVariance html plotDiffEx html saveBiomarkerRes html saveDiffExResults html scDiffEx html singleCellTK html subDiffEx html summarizeTable html visPlot html ** building package indices ** installing vignettes ** testing if installed package can be loaded In R CMD INSTALL install for x64 * installing *source* package 'singleCellTK' ... ** testing if installed package can be loaded * MD5 sums packaged installation of 'singleCellTK' as singleCellTK_1.2.3.zip * DONE (singleCellTK) In R CMD INSTALL In R CMD INSTALL