Back to Multiple platform build/check report for BioC 3.8 |
|
This page was generated on 2019-04-13 11:24:19 -0400 (Sat, 13 Apr 2019).
Package 1424/1649 | Hostname | OS / Arch | INSTALL | BUILD | CHECK | BUILD BIN | ||||||
seqplots 1.20.1 Przemyslaw Stempor
| malbec1 | Linux (Ubuntu 16.04.6 LTS) / x86_64 | OK | OK | NA | |||||||
tokay1 | Windows Server 2012 R2 Standard / x64 | OK | OK | WARNINGS | [ OK ] | ![]() | ||||||
merida1 | OS X 10.11.6 El Capitan / x86_64 | OK | OK | WARNINGS | OK | ![]() |
Package: seqplots |
Version: 1.20.1 |
Command: rm -rf seqplots.buildbin-libdir && mkdir seqplots.buildbin-libdir && C:\Users\biocbuild\bbs-3.8-bioc\R\bin\R.exe CMD INSTALL --merge-multiarch --build --library=seqplots.buildbin-libdir seqplots_1.20.1.tar.gz |
StartedAt: 2019-04-13 07:56:40 -0400 (Sat, 13 Apr 2019) |
EndedAt: 2019-04-13 07:57:23 -0400 (Sat, 13 Apr 2019) |
EllapsedTime: 43.2 seconds |
RetCode: 0 |
Status: OK |
PackageFile: seqplots_1.20.1.zip |
PackageFileSize: 7.312 MiB |
############################################################################## ############################################################################## ### ### Running command: ### ### rm -rf seqplots.buildbin-libdir && mkdir seqplots.buildbin-libdir && C:\Users\biocbuild\bbs-3.8-bioc\R\bin\R.exe CMD INSTALL --merge-multiarch --build --library=seqplots.buildbin-libdir seqplots_1.20.1.tar.gz ### ############################################################################## ############################################################################## install for i386 * installing *source* package 'seqplots' ... ** R ** inst ** byte-compile and prepare package for lazy loading ** help *** installing help indices converting help for package 'seqplots' finding HTML links ... done MotifSetup-class html PlotSetArray-class html PlotSetList-class html PlotSetPair-class html add_local_file html deployServerInstance html getPlotSetArray html Rd warning: C:/Users/biocbuild/bbs-3.8-bioc/tmpdir/Rtmp8MjzyG/R.INSTALL414c54a1196b/seqplots/man/getPlotSetArray.Rd:144: file link 'installed.genomes' in package 'BSgenome' does not exist and so has been treated as a topic Rd warning: C:/Users/biocbuild/bbs-3.8-bioc/tmpdir/Rtmp8MjzyG/R.INSTALL414c54a1196b/seqplots/man/getPlotSetArray.Rd:147: file link 'BSgenome' in package 'BSgenome' does not exist and so has been treated as a topic getREF html ggHeatmapPlotWrapper html Rd warning: C:/Users/biocbuild/bbs-3.8-bioc/tmpdir/Rtmp8MjzyG/R.INSTALL414c54a1196b/seqplots/man/ggHeatmapPlotWrapper.Rd:75: file link 'grDevices' in package 'grDevices' does not exist and so has been treated as a topic heatmapPlotWrapper html Rd warning: C:/Users/biocbuild/bbs-3.8-bioc/tmpdir/Rtmp8MjzyG/R.INSTALL414c54a1196b/seqplots/man/heatmapPlotWrapper.Rd:76: file link 'grDevices' in package 'grDevices' does not exist and so has been treated as a topic imPlot2 html import.narrowPeak html num2bp html num2sci html plot html plotAverage html plotHeatmap html Rd warning: C:/Users/biocbuild/bbs-3.8-bioc/tmpdir/Rtmp8MjzyG/R.INSTALL414c54a1196b/seqplots/man/plotHeatmap.Rd:177: file link 'grDevices' in package 'grDevices' does not exist and so has been treated as a topic Rd warning: C:/Users/biocbuild/bbs-3.8-bioc/tmpdir/Rtmp8MjzyG/R.INSTALL414c54a1196b/seqplots/man/plotHeatmap.Rd:192: file link 'geom_raster' in package 'ggplot2' does not exist and so has been treated as a topic plotMext html run html seqplots-generic html seqplots html ** building package indices ** installing vignettes ** testing if installed package can be loaded In R CMD INSTALL install for x64 * installing *source* package 'seqplots' ... ** testing if installed package can be loaded * MD5 sums packaged installation of 'seqplots' as seqplots_1.20.1.zip * DONE (seqplots) In R CMD INSTALL In R CMD INSTALL