Back to Multiple platform build/check report for BioC 3.8 |
|
This page was generated on 2019-04-13 11:26:36 -0400 (Sat, 13 Apr 2019).
Package 1405/1649 | Hostname | OS / Arch | INSTALL | BUILD | CHECK | BUILD BIN | ||||||
scran 1.10.2 Aaron Lun
| malbec1 | Linux (Ubuntu 16.04.6 LTS) / x86_64 | OK | OK | NA | |||||||
tokay1 | Windows Server 2012 R2 Standard / x64 | OK | [ OK ] | WARNINGS | OK | ![]() | ||||||
merida1 | OS X 10.11.6 El Capitan / x86_64 | OK | OK | OK | OK | ![]() |
Package: scran |
Version: 1.10.2 |
Command: chmod a+r scran -R && C:\Users\biocbuild\bbs-3.8-bioc\R\bin\R.exe CMD build --keep-empty-dirs --no-resave-data scran |
StartedAt: 2019-04-12 22:52:24 -0400 (Fri, 12 Apr 2019) |
EndedAt: 2019-04-12 22:56:24 -0400 (Fri, 12 Apr 2019) |
EllapsedTime: 239.4 seconds |
RetCode: 0 |
Status: OK |
PackageFile: scran_1.10.2.tar.gz |
PackageFileSize: 855.1 KiB |
############################################################################## ############################################################################## ### ### Running command: ### ### chmod a+r scran -R && C:\Users\biocbuild\bbs-3.8-bioc\R\bin\R.exe CMD build --keep-empty-dirs --no-resave-data scran ### ############################################################################## ############################################################################## * checking for file 'scran/DESCRIPTION' ... OK * preparing 'scran': * checking DESCRIPTION meta-information ... OK * cleaning src * installing the package to build vignettes * creating vignettes ... OK * cleaning src * checking for LF line-endings in source and make files and shell scripts * checking for empty or unneeded directories * building 'scran_1.10.2.tar.gz'