| Back to Multiple platform build/check report for BioC 3.8 | 
 | 
This page was generated on 2019-04-16 11:59:19 -0400 (Tue, 16 Apr 2019).
| Package 1391/1649 | Hostname | OS / Arch | INSTALL | BUILD | CHECK | BUILD BIN | ||||||
| scater 1.10.1 Davis McCarthy 
 | malbec1 | Linux (Ubuntu 16.04.6 LTS) / x86_64 | OK | OK | WARNINGS |  | ||||||
| merida1 | OS X 10.11.6 El Capitan / x86_64 | OK | [ OK ] | WARNINGS | OK |  | 
| Package: scater | 
| Version: 1.10.1 | 
| Command: /Library/Frameworks/R.framework/Versions/Current/Resources/bin/R CMD build --keep-empty-dirs --no-resave-data scater | 
| StartedAt: 2019-04-15 20:43:02 -0400 (Mon, 15 Apr 2019) | 
| EndedAt: 2019-04-15 20:46:25 -0400 (Mon, 15 Apr 2019) | 
| EllapsedTime: 202.2 seconds | 
| RetCode: 0 | 
| Status: OK | 
| PackageFile: scater_1.10.1.tar.gz | 
| PackageFileSize: 4.388 MiB | 
############################################################################## ############################################################################## ### ### Running command: ### ### /Library/Frameworks/R.framework/Versions/Current/Resources/bin/R CMD build --keep-empty-dirs --no-resave-data scater ### ############################################################################## ############################################################################## * checking for file ‘scater/DESCRIPTION’ ... OK * preparing ‘scater’: * checking DESCRIPTION meta-information ... OK * cleaning src * installing the package to build vignettes * creating vignettes ... OK * cleaning src * checking for LF line-endings in source and make files and shell scripts * checking for empty or unneeded directories * looking to see if a ‘data/datalist’ file should be added * building ‘scater_1.10.1.tar.gz’