| Back to Multiple platform build/check report for BioC 3.8 | 
 | 
This page was generated on 2019-04-16 11:57:28 -0400 (Tue, 16 Apr 2019).
| Package 1383/1649 | Hostname | OS / Arch | INSTALL | BUILD | CHECK | BUILD BIN | ||||||
| sangerseqR 1.18.0 Jonathon Hill 
 | malbec1 | Linux (Ubuntu 16.04.6 LTS) / x86_64 | OK | OK | OK |  | ||||||
| merida1 | OS X 10.11.6 El Capitan / x86_64 | OK | OK | OK | [ OK ] |  | 
| Package: sangerseqR | 
| Version: 1.18.0 | 
| Command: rm -rf sangerseqR.buildbin-libdir && mkdir sangerseqR.buildbin-libdir && /Users/biocbuild/BBS/utils/build-universal.sh sangerseqR_1.18.0.tar.gz /Library/Frameworks/R.framework/Versions/Current/Resources/bin/R sangerseqR.buildbin-libdir | 
| StartedAt: 2019-04-16 04:42:24 -0400 (Tue, 16 Apr 2019) | 
| EndedAt: 2019-04-16 04:43:02 -0400 (Tue, 16 Apr 2019) | 
| EllapsedTime: 38.2 seconds | 
| RetCode: 0 | 
| Status: OK | 
| PackageFile: sangerseqR_1.18.0.tgz | 
| PackageFileSize: 1.768 MiB | 
############################################################################## ############################################################################## ### ### Running command: ### ### rm -rf sangerseqR.buildbin-libdir && mkdir sangerseqR.buildbin-libdir && /Users/biocbuild/BBS/utils/build-universal.sh sangerseqR_1.18.0.tar.gz /Library/Frameworks/R.framework/Versions/Current/Resources/bin/R sangerseqR.buildbin-libdir ### ############################################################################## ############################################################################## >>>>>>> >>>>>>> INSTALLATION WITH 'R CMD INSTALL --preclean --no-multiarch --library=sangerseqR.buildbin-libdir sangerseqR_1.18.0.tar.gz' >>>>>>> * installing *source* package ‘sangerseqR’ ... ** R ** inst ** byte-compile and prepare package for lazy loading ** help *** installing help indices ** building package indices ** installing vignettes ** testing if installed package can be loaded * DONE (sangerseqR)