| Back to Multiple platform build/check report for BioC 3.8 |
|
This page was generated on 2019-04-16 12:00:14 -0400 (Tue, 16 Apr 2019).
| Package 1380/1649 | Hostname | OS / Arch | INSTALL | BUILD | CHECK | BUILD BIN | ||||||
| samExploreR 1.6.1 shailesh tripathi
| malbec1 | Linux (Ubuntu 16.04.6 LTS) / x86_64 | OK | OK | OK | |||||||
| merida1 | OS X 10.11.6 El Capitan / x86_64 | OK | OK | OK | [ OK ] |
| Package: samExploreR |
| Version: 1.6.1 |
| Command: rm -rf samExploreR.buildbin-libdir && mkdir samExploreR.buildbin-libdir && /Users/biocbuild/BBS/utils/build-universal.sh samExploreR_1.6.1.tar.gz /Library/Frameworks/R.framework/Versions/Current/Resources/bin/R samExploreR.buildbin-libdir |
| StartedAt: 2019-04-16 04:42:16 -0400 (Tue, 16 Apr 2019) |
| EndedAt: 2019-04-16 04:42:48 -0400 (Tue, 16 Apr 2019) |
| EllapsedTime: 32.7 seconds |
| RetCode: 0 |
| Status: OK |
| PackageFile: samExploreR_1.6.1.tgz |
| PackageFileSize: 550.1 KiB |
############################################################################## ############################################################################## ### ### Running command: ### ### rm -rf samExploreR.buildbin-libdir && mkdir samExploreR.buildbin-libdir && /Users/biocbuild/BBS/utils/build-universal.sh samExploreR_1.6.1.tar.gz /Library/Frameworks/R.framework/Versions/Current/Resources/bin/R samExploreR.buildbin-libdir ### ############################################################################## ############################################################################## >>>>>>> >>>>>>> INSTALLATION WITH 'R CMD INSTALL --preclean --no-multiarch --library=samExploreR.buildbin-libdir samExploreR_1.6.1.tar.gz' >>>>>>> * installing *source* package ‘samExploreR’ ... ** R ** data ** inst ** byte-compile and prepare package for lazy loading ** help *** installing help indices ** building package indices ** installing vignettes ** testing if installed package can be loaded * DONE (samExploreR)