| Back to Multiple platform build/check report for BioC 3.8 | 
 | 
This page was generated on 2019-04-16 11:50:45 -0400 (Tue, 16 Apr 2019).
| Package 1230/1649 | Hostname | OS / Arch | INSTALL | BUILD | CHECK | BUILD BIN | ||||||
| quantro 1.16.0 Stephanie Hicks 
 | malbec1 | Linux (Ubuntu 16.04.6 LTS) / x86_64 | OK | [ OK ] | OK |  | ||||||
| merida1 | OS X 10.11.6 El Capitan / x86_64 | OK | OK | OK | OK |  | 
| Package: quantro | 
| Version: 1.16.0 | 
| Command: /home/biocbuild/bbs-3.8-bioc/R/bin/R CMD build --keep-empty-dirs --no-resave-data quantro | 
| StartedAt: 2019-04-15 19:50:29 -0400 (Mon, 15 Apr 2019) | 
| EndedAt: 2019-04-15 19:51:57 -0400 (Mon, 15 Apr 2019) | 
| EllapsedTime: 87.8 seconds | 
| RetCode: 0 | 
| Status: OK | 
| PackageFile: quantro_1.16.0.tar.gz | 
| PackageFileSize: 2.53 MiB | 
##############################################################################
##############################################################################
###
### Running command:
###
###   /home/biocbuild/bbs-3.8-bioc/R/bin/R CMD build --keep-empty-dirs --no-resave-data quantro
###
##############################################################################
##############################################################################
* checking for file ‘quantro/DESCRIPTION’ ... OK
* preparing ‘quantro’:
* checking DESCRIPTION meta-information ... OK
* installing the package to build vignettes
* creating vignettes ... OK
Warning: ‘inst/doc’ file
    ‘quantro-vignette.pdf’
  ignored as vignettes have been rebuilt.
  Run R CMD build with --no-build-vignettes to prevent rebuilding.
* checking for LF line-endings in source and make files and shell scripts
* checking for empty or unneeded directories
* looking to see if a ‘data/datalist’ file should be added
* building ‘quantro_1.16.0.tar.gz’