| Back to Multiple platform build/check report for BioC 3.8 |
|
This page was generated on 2019-04-16 11:58:41 -0400 (Tue, 16 Apr 2019).
| Package 1220/1649 | Hostname | OS / Arch | INSTALL | BUILD | CHECK | BUILD BIN | ||||||
| pwOmics 1.14.0 Maren Sitte
| malbec1 | Linux (Ubuntu 16.04.6 LTS) / x86_64 | OK | OK | OK | |||||||
| merida1 | OS X 10.11.6 El Capitan / x86_64 | OK | OK | OK | [ OK ] |
| Package: pwOmics |
| Version: 1.14.0 |
| Command: rm -rf pwOmics.buildbin-libdir && mkdir pwOmics.buildbin-libdir && /Users/biocbuild/BBS/utils/build-universal.sh pwOmics_1.14.0.tar.gz /Library/Frameworks/R.framework/Versions/Current/Resources/bin/R pwOmics.buildbin-libdir |
| StartedAt: 2019-04-16 04:34:46 -0400 (Tue, 16 Apr 2019) |
| EndedAt: 2019-04-16 04:35:25 -0400 (Tue, 16 Apr 2019) |
| EllapsedTime: 39.5 seconds |
| RetCode: 0 |
| Status: OK |
| PackageFile: pwOmics_1.14.0.tgz |
| PackageFileSize: 1.131 MiB |
############################################################################## ############################################################################## ### ### Running command: ### ### rm -rf pwOmics.buildbin-libdir && mkdir pwOmics.buildbin-libdir && /Users/biocbuild/BBS/utils/build-universal.sh pwOmics_1.14.0.tar.gz /Library/Frameworks/R.framework/Versions/Current/Resources/bin/R pwOmics.buildbin-libdir ### ############################################################################## ############################################################################## >>>>>>> >>>>>>> INSTALLATION WITH 'R CMD INSTALL --preclean --no-multiarch --library=pwOmics.buildbin-libdir pwOmics_1.14.0.tar.gz' >>>>>>> * installing *source* package ‘pwOmics’ ... ** R ** data ** inst ** byte-compile and prepare package for lazy loading ** help *** installing help indices ** building package indices ** testing if installed package can be loaded * DONE (pwOmics)