| Back to Multiple platform build/check report for BioC 3.8 | 
  | 
This page was generated on 2019-04-13 11:22:54 -0400 (Sat, 13 Apr 2019).
| Package 1204/1649 | Hostname | OS / Arch | INSTALL | BUILD | CHECK | BUILD BIN | ||||||
Sebastien Artigaud 
  | malbec1 | Linux (Ubuntu 16.04.6 LTS) / x86_64 | OK | OK | WARNINGS | |||||||
| tokay1 | Windows Server 2012 R2 Standard / x64 | OK | OK | WARNINGS | [ OK ] | |||||||
| merida1 | OS X 10.11.6 El Capitan / x86_64 | OK | OK | WARNINGS | OK | 
| Package: prot2D | 
| Version: 1.20.0 | 
| Command: rm -rf prot2D.buildbin-libdir && mkdir prot2D.buildbin-libdir && C:\Users\biocbuild\bbs-3.8-bioc\R\bin\R.exe CMD INSTALL --merge-multiarch --build --library=prot2D.buildbin-libdir prot2D_1.20.0.tar.gz | 
| StartedAt: 2019-04-13 07:47:35 -0400 (Sat, 13 Apr 2019) | 
| EndedAt: 2019-04-13 07:47:52 -0400 (Sat, 13 Apr 2019) | 
| EllapsedTime: 17.4 seconds | 
| RetCode: 0 | 
| Status: OK | 
| PackageFile: prot2D_1.20.0.zip | 
| PackageFileSize: 444.7 KiB | 
##############################################################################
##############################################################################
###
### Running command:
###
###   rm -rf prot2D.buildbin-libdir && mkdir prot2D.buildbin-libdir && C:\Users\biocbuild\bbs-3.8-bioc\R\bin\R.exe CMD INSTALL --merge-multiarch --build --library=prot2D.buildbin-libdir prot2D_1.20.0.tar.gz
###
##############################################################################
##############################################################################
install for i386
* installing *source* package 'prot2D' ...
** R
** data
** inst
** byte-compile and prepare package for lazy loading
** help
*** installing help indices
  converting help for package 'prot2D'
    finding HTML links ... done
    ES.prot                                 html  
    finding level-2 HTML links ... done
    Norm.qt                                 html  
    Norm.vsn                                html  
    RIplot                                  html  
    Sim.Prot.2D                             html  
    pecten                                  html  
    pecten.fac                              html  
    prot2D-package                          html  
Rd warning: C:/Users/biocbuild/bbs-3.8-bioc/tmpdir/RtmpopSok7/R.INSTALL3cb05f135509/prot2D/man/prot2D-package.Rd:14: file link 'ExpressionSet' in package 'Biobase' does not exist and so has been treated as a topic
Rd warning: C:/Users/biocbuild/bbs-3.8-bioc/tmpdir/RtmpopSok7/R.INSTALL3cb05f135509/prot2D/man/prot2D-package.Rd:15: file link 'modT.Prot' in package 'prot2D' does not exist and so has been treated as a topic
    robust.fdr                              html  
    variousT                                html  
** building package indices
** installing vignettes
** testing if installed package can be loaded
Warning: Package 'prot2D' is deprecated and will be removed from Bioconductor
  version 3.9
In R CMD INSTALL
install for x64
* installing *source* package 'prot2D' ...
** testing if installed package can be loaded
Warning: Package 'prot2D' is deprecated and will be removed from Bioconductor
  version 3.9
* MD5 sums
packaged installation of 'prot2D' as prot2D_1.20.0.zip
* DONE (prot2D)
In R CMD INSTALL
In R CMD INSTALL