| Back to Multiple platform build/check report for BioC 3.8 | 
  | 
This page was generated on 2019-04-16 11:59:08 -0400 (Tue, 16 Apr 2019).
| Package 1196/1649 | Hostname | OS / Arch | INSTALL | BUILD | CHECK | BUILD BIN | ||||||
| profileScoreDist 1.10.0 Paal O. Westermark 
  | malbec1 | Linux (Ubuntu 16.04.6 LTS) / x86_64 | OK | OK | OK | |||||||
| merida1 | OS X 10.11.6 El Capitan / x86_64 | OK | OK | OK | [ OK ] | 
| Package: profileScoreDist | 
| Version: 1.10.0 | 
| Command: rm -rf profileScoreDist.buildbin-libdir && mkdir profileScoreDist.buildbin-libdir && /Users/biocbuild/BBS/utils/build-universal.sh profileScoreDist_1.10.0.tar.gz /Library/Frameworks/R.framework/Versions/Current/Resources/bin/R profileScoreDist.buildbin-libdir | 
| StartedAt: 2019-04-16 04:33:39 -0400 (Tue, 16 Apr 2019) | 
| EndedAt: 2019-04-16 04:34:21 -0400 (Tue, 16 Apr 2019) | 
| EllapsedTime: 41.7 seconds | 
| RetCode: 0 | 
| Status: OK | 
| PackageFile: profileScoreDist_1.10.0.tgz | 
| PackageFileSize: 267.2 KiB | 
############################################################################## ############################################################################## ### ### Running command: ### ### rm -rf profileScoreDist.buildbin-libdir && mkdir profileScoreDist.buildbin-libdir && /Users/biocbuild/BBS/utils/build-universal.sh profileScoreDist_1.10.0.tar.gz /Library/Frameworks/R.framework/Versions/Current/Resources/bin/R profileScoreDist.buildbin-libdir ### ############################################################################## ############################################################################## >>>>>>> >>>>>>> INSTALLATION WITH 'R CMD INSTALL --preclean --no-multiarch --library=profileScoreDist.buildbin-libdir profileScoreDist_1.10.0.tar.gz' >>>>>>> * installing *source* package ‘profileScoreDist’ ... ** libs clang++ -I"/Library/Frameworks/R.framework/Resources/include" -DNDEBUG -I"/Library/Frameworks/R.framework/Versions/3.5/Resources/library/Rcpp/include" -I/usr/local/include -fPIC -Wall -g -O2 -c RcppExports.cpp -o RcppExports.o clang++ -I"/Library/Frameworks/R.framework/Resources/include" -DNDEBUG -I"/Library/Frameworks/R.framework/Versions/3.5/Resources/library/Rcpp/include" -I/usr/local/include -fPIC -Wall -g -O2 -c profileConvolution.cpp -o profileConvolution.o clang++ -I"/Library/Frameworks/R.framework/Resources/include" -DNDEBUG -I"/Library/Frameworks/R.framework/Versions/3.5/Resources/library/Rcpp/include" -I/usr/local/include -fPIC -Wall -g -O2 -c profilePosscoreprob.cpp -o profilePosscoreprob.o clang++ -dynamiclib -Wl,-headerpad_max_install_names -undefined dynamic_lookup -single_module -multiply_defined suppress -L/Library/Frameworks/R.framework/Resources/lib -L/usr/local/lib -o profileScoreDist.so RcppExports.o profileConvolution.o profilePosscoreprob.o -F/Library/Frameworks/R.framework/.. -framework R -Wl,-framework -Wl,CoreFoundation installing to /Users/biocbuild/bbs-3.8-bioc/meat/profileScoreDist.buildbin-libdir/profileScoreDist/libs ** R ** data *** moving datasets to lazyload DB ** inst ** byte-compile and prepare package for lazy loading ** help *** installing help indices ** building package indices ** installing vignettes ** testing if installed package can be loaded * DONE (profileScoreDist) >>>>>>> >>>>>>> FIXING LINKS FOR profileScoreDist.buildbin-libdir/profileScoreDist/libs//profileScoreDist.so >>>>>>> install_name_tool -change "/usr/local/lib/libgcc_s.1.dylib" "/Library/Frameworks/R.framework/Versions/3.5/Resources/lib/libgcc_s.1.dylib" "profileScoreDist.buildbin-libdir/profileScoreDist/libs//profileScoreDist.so" install_name_tool -change "/usr/local/lib/libgfortran.3.dylib" "/Library/Frameworks/R.framework/Versions/3.5/Resources/lib/libgfortran.3.dylib" "profileScoreDist.buildbin-libdir/profileScoreDist/libs//profileScoreDist.so" install_name_tool -change "/usr/local/lib/libreadline.5.2.dylib" "/Library/Frameworks/R.framework/Versions/3.5/Resources/lib/libreadline.5.2.dylib" "profileScoreDist.buildbin-libdir/profileScoreDist/libs//profileScoreDist.so" install_name_tool -change "/usr/local/lib/libreadline.dylib" "/Library/Frameworks/R.framework/Versions/3.5/Resources/lib/libreadline.dylib" "profileScoreDist.buildbin-libdir/profileScoreDist/libs//profileScoreDist.so" install_name_tool -change "/usr/local/lib/libquadmath.0.dylib" "/Library/Frameworks/R.framework/Versions/3.5/Resources/lib/libquadmath.0.dylib" "profileScoreDist.buildbin-libdir/profileScoreDist/libs//profileScoreDist.so"