| Back to Multiple platform build/check report for BioC 3.8 | 
  | 
This page was generated on 2019-04-16 12:05:50 -0400 (Tue, 16 Apr 2019).
| Package 1180/1649 | Hostname | OS / Arch | INSTALL | BUILD | CHECK | BUILD BIN | ||||||
| powerTCR 1.2.0 Hillary Koch 
  | malbec1 | Linux (Ubuntu 16.04.6 LTS) / x86_64 | OK | OK | OK | |||||||
| merida1 | OS X 10.11.6 El Capitan / x86_64 | ERROR | [ ERROR ] | skipped | skipped | 
| Package: powerTCR | 
| Version: 1.2.0 | 
| Command: /Library/Frameworks/R.framework/Versions/Current/Resources/bin/R CMD build --keep-empty-dirs --no-resave-data powerTCR | 
| StartedAt: 2019-04-15 21:37:23 -0400 (Mon, 15 Apr 2019) | 
| EndedAt: 2019-04-15 21:37:25 -0400 (Mon, 15 Apr 2019) | 
| EllapsedTime: 1.5 seconds | 
| RetCode: 1 | 
| Status: ERROR | 
| PackageFile: None | 
| PackageFileSize: NA | 
##############################################################################
##############################################################################
###
### Running command:
###
###   /Library/Frameworks/R.framework/Versions/Current/Resources/bin/R CMD build --keep-empty-dirs --no-resave-data powerTCR
###
##############################################################################
##############################################################################
* checking for file ‘powerTCR/DESCRIPTION’ ... OK
* preparing ‘powerTCR’:
* checking DESCRIPTION meta-information ... OK
* installing the package to build vignettes
      -----------------------------------
* installing *source* package ‘powerTCR’ ...
** R
** data
*** moving datasets to lazyload DB
** inst
** byte-compile and prepare package for lazy loading
Error in loadNamespace(i, c(lib.loc, .libPaths()), versionCheck = vI[[i]]) : 
  there is no package called ‘gsl’
ERROR: lazy loading failed for package ‘powerTCR’
* removing ‘/private/tmp/RtmpsHkIUI/Rinst1867336a8246e/powerTCR’
      -----------------------------------
ERROR: package installation failed