| Back to Multiple platform build/check report for BioC 3.8 | 
  | 
This page was generated on 2019-03-18 11:34:13 -0400 (Mon, 18 Mar 2019).
| Package 1180/1649 | Hostname | OS / Arch | INSTALL | BUILD | CHECK | ||||||
| powerTCR 1.2.0 Hillary Koch 
  | malbec1 | Linux (Ubuntu 16.04.6 LTS) / x86_64 | OK | OK | OK | ||||||
| tokay1 | Windows Server 2012 R2 Standard / x64 | OK | OK | OK | |||||||
| merida1 | OS X 10.11.6 El Capitan / x86_64 | OK | OK | OK | 
| Package: powerTCR | 
| Version: 1.2.0 | 
| Command: rm -rf powerTCR.buildbin-libdir && mkdir powerTCR.buildbin-libdir && /Users/biocbuild/BBS/utils/build-universal.sh powerTCR_1.2.0.tar.gz /Library/Frameworks/R.framework/Versions/Current/Resources/bin/R powerTCR.buildbin-libdir | 
| StartedAt: 2019-03-18 04:45:03 -0400 (Mon, 18 Mar 2019) | 
| EndedAt: 2019-03-18 04:45:44 -0400 (Mon, 18 Mar 2019) | 
| EllapsedTime: 41.5 seconds | 
| RetCode: 0 | 
| Status: OK | 
| PackageFile: powerTCR_1.2.0.tgz | 
| PackageFileSize: 527.5 KiB | 
############################################################################## ############################################################################## ### ### Running command: ### ### rm -rf powerTCR.buildbin-libdir && mkdir powerTCR.buildbin-libdir && /Users/biocbuild/BBS/utils/build-universal.sh powerTCR_1.2.0.tar.gz /Library/Frameworks/R.framework/Versions/Current/Resources/bin/R powerTCR.buildbin-libdir ### ############################################################################## ############################################################################## >>>>>>> >>>>>>> INSTALLATION WITH 'R CMD INSTALL --preclean --no-multiarch --library=powerTCR.buildbin-libdir powerTCR_1.2.0.tar.gz' >>>>>>> * installing *source* package ‘powerTCR’ ... ** R ** data *** moving datasets to lazyload DB ** inst ** byte-compile and prepare package for lazy loading ** help *** installing help indices ** building package indices ** installing vignettes ** testing if installed package can be loaded * DONE (powerTCR)