Back to Multiple platform build/check report for BioC 3.8 |
|
This page was generated on 2019-04-13 11:29:08 -0400 (Sat, 13 Apr 2019).
Package 1172/1649 | Hostname | OS / Arch | INSTALL | BUILD | CHECK | BUILD BIN | ||||||
plyranges 1.2.0 Stuart Lee
| malbec1 | Linux (Ubuntu 16.04.6 LTS) / x86_64 | OK | OK | OK | ![]() | ||||||
tokay1 | Windows Server 2012 R2 Standard / x64 | OK | [ OK ] | WARNINGS | OK | ![]() | ||||||
merida1 | OS X 10.11.6 El Capitan / x86_64 | OK | OK | OK | OK | ![]() |
Package: plyranges |
Version: 1.2.0 |
Command: chmod a+r plyranges -R && C:\Users\biocbuild\bbs-3.8-bioc\R\bin\R.exe CMD build --keep-empty-dirs --no-resave-data plyranges |
StartedAt: 2019-04-12 23:46:07 -0400 (Fri, 12 Apr 2019) |
EndedAt: 2019-04-12 23:48:16 -0400 (Fri, 12 Apr 2019) |
EllapsedTime: 129.1 seconds |
RetCode: 0 |
Status: OK |
PackageFile: plyranges_1.2.0.tar.gz |
PackageFileSize: 738.4 KiB |
############################################################################## ############################################################################## ### ### Running command: ### ### chmod a+r plyranges -R && C:\Users\biocbuild\bbs-3.8-bioc\R\bin\R.exe CMD build --keep-empty-dirs --no-resave-data plyranges ### ############################################################################## ############################################################################## * checking for file 'plyranges/DESCRIPTION' ... OK * preparing 'plyranges': * checking DESCRIPTION meta-information ... OK * installing the package to build vignettes * creating vignettes ... OK * checking for LF line-endings in source and make files and shell scripts * checking for empty or unneeded directories * building 'plyranges_1.2.0.tar.gz'