| Back to Multiple platform build/check report for BioC 3.8 |
|
This page was generated on 2019-04-16 11:56:14 -0400 (Tue, 16 Apr 2019).
| Package 1155/1649 | Hostname | OS / Arch | INSTALL | BUILD | CHECK | BUILD BIN | ||||||
| phyloseq 1.26.1 Paul J. McMurdie
| malbec1 | Linux (Ubuntu 16.04.6 LTS) / x86_64 | OK | OK | OK | |||||||
| merida1 | OS X 10.11.6 El Capitan / x86_64 | OK | OK | OK | [ OK ] |
| Package: phyloseq |
| Version: 1.26.1 |
| Command: rm -rf phyloseq.buildbin-libdir && mkdir phyloseq.buildbin-libdir && /Users/biocbuild/BBS/utils/build-universal.sh phyloseq_1.26.1.tar.gz /Library/Frameworks/R.framework/Versions/Current/Resources/bin/R phyloseq.buildbin-libdir |
| StartedAt: 2019-04-16 04:31:52 -0400 (Tue, 16 Apr 2019) |
| EndedAt: 2019-04-16 04:32:36 -0400 (Tue, 16 Apr 2019) |
| EllapsedTime: 44.7 seconds |
| RetCode: 0 |
| Status: OK |
| PackageFile: phyloseq_1.26.1.tgz |
| PackageFileSize: 6.867 MiB |
############################################################################## ############################################################################## ### ### Running command: ### ### rm -rf phyloseq.buildbin-libdir && mkdir phyloseq.buildbin-libdir && /Users/biocbuild/BBS/utils/build-universal.sh phyloseq_1.26.1.tar.gz /Library/Frameworks/R.framework/Versions/Current/Resources/bin/R phyloseq.buildbin-libdir ### ############################################################################## ############################################################################## >>>>>>> >>>>>>> INSTALLATION WITH 'R CMD INSTALL --preclean --no-multiarch --library=phyloseq.buildbin-libdir phyloseq_1.26.1.tar.gz' >>>>>>> * installing *source* package ‘phyloseq’ ... ** R ** data ** inst ** byte-compile and prepare package for lazy loading ** help *** installing help indices ** building package indices ** installing vignettes ** testing if installed package can be loaded * DONE (phyloseq)