Back to Multiple platform build/check report for BioC 3.8 |
|
This page was generated on 2019-04-13 11:24:40 -0400 (Sat, 13 Apr 2019).
Package 1143/1649 | Hostname | OS / Arch | INSTALL | BUILD | CHECK | BUILD BIN | ||||||
pepXMLTab 1.16.1 Xiaojing Wang
| malbec1 | Linux (Ubuntu 16.04.6 LTS) / x86_64 | OK | OK | OK | ![]() | ||||||
tokay1 | Windows Server 2012 R2 Standard / x64 | OK | OK | OK | [ OK ] | ![]() | ||||||
merida1 | OS X 10.11.6 El Capitan / x86_64 | OK | OK | OK | OK | ![]() |
Package: pepXMLTab |
Version: 1.16.1 |
Command: rm -rf pepXMLTab.buildbin-libdir && mkdir pepXMLTab.buildbin-libdir && C:\Users\biocbuild\bbs-3.8-bioc\R\bin\R.exe CMD INSTALL --merge-multiarch --build --library=pepXMLTab.buildbin-libdir pepXMLTab_1.16.1.tar.gz |
StartedAt: 2019-04-13 07:45:42 -0400 (Sat, 13 Apr 2019) |
EndedAt: 2019-04-13 07:45:55 -0400 (Sat, 13 Apr 2019) |
EllapsedTime: 12.8 seconds |
RetCode: 0 |
Status: OK |
PackageFile: pepXMLTab_1.16.1.zip |
PackageFileSize: 262.9 KiB |
############################################################################## ############################################################################## ### ### Running command: ### ### rm -rf pepXMLTab.buildbin-libdir && mkdir pepXMLTab.buildbin-libdir && C:\Users\biocbuild\bbs-3.8-bioc\R\bin\R.exe CMD INSTALL --merge-multiarch --build --library=pepXMLTab.buildbin-libdir pepXMLTab_1.16.1.tar.gz ### ############################################################################## ############################################################################## install for i386 * installing *source* package 'pepXMLTab' ... ** R ** inst ** byte-compile and prepare package for lazy loading ** help *** installing help indices converting help for package 'pepXMLTab' finding HTML links ... done PSMfilter html pepXML2tab html ** building package indices ** installing vignettes ** testing if installed package can be loaded In R CMD INSTALL install for x64 * installing *source* package 'pepXMLTab' ... ** testing if installed package can be loaded * MD5 sums packaged installation of 'pepXMLTab' as pepXMLTab_1.16.1.zip * DONE (pepXMLTab) In R CMD INSTALL In R CMD INSTALL