Back to Multiple platform build/check report for BioC 3.8 |
|
This page was generated on 2019-04-16 11:54:35 -0400 (Tue, 16 Apr 2019).
Package 1139/1649 | Hostname | OS / Arch | INSTALL | BUILD | CHECK | BUILD BIN | ||||||
pdInfoBuilder 1.46.0 Benilton Carvalho
| malbec1 | Linux (Ubuntu 16.04.6 LTS) / x86_64 | OK | OK | OK | ![]() | ||||||
merida1 | OS X 10.11.6 El Capitan / x86_64 | OK | OK | OK | [ OK ] | ![]() |
Package: pdInfoBuilder |
Version: 1.46.0 |
Command: rm -rf pdInfoBuilder.buildbin-libdir && mkdir pdInfoBuilder.buildbin-libdir && /Users/biocbuild/BBS/utils/build-universal.sh pdInfoBuilder_1.46.0.tar.gz /Library/Frameworks/R.framework/Versions/Current/Resources/bin/R pdInfoBuilder.buildbin-libdir |
StartedAt: 2019-04-16 04:31:07 -0400 (Tue, 16 Apr 2019) |
EndedAt: 2019-04-16 04:31:49 -0400 (Tue, 16 Apr 2019) |
EllapsedTime: 42.3 seconds |
RetCode: 0 |
Status: OK |
PackageFile: pdInfoBuilder_1.46.0.tgz |
PackageFileSize: 793 KiB |
############################################################################## ############################################################################## ### ### Running command: ### ### rm -rf pdInfoBuilder.buildbin-libdir && mkdir pdInfoBuilder.buildbin-libdir && /Users/biocbuild/BBS/utils/build-universal.sh pdInfoBuilder_1.46.0.tar.gz /Library/Frameworks/R.framework/Versions/Current/Resources/bin/R pdInfoBuilder.buildbin-libdir ### ############################################################################## ############################################################################## >>>>>>> >>>>>>> INSTALLATION WITH 'R CMD INSTALL --preclean --no-multiarch --library=pdInfoBuilder.buildbin-libdir pdInfoBuilder_1.46.0.tar.gz' >>>>>>> * installing *source* package ‘pdInfoBuilder’ ... ** libs clang -I"/Library/Frameworks/R.framework/Resources/include" -DNDEBUG -I/usr/local/include -fPIC -Wall -g -O2 -c pdInfoBuilder.c -o pdInfoBuilder.o clang -dynamiclib -Wl,-headerpad_max_install_names -undefined dynamic_lookup -single_module -multiply_defined suppress -L/Library/Frameworks/R.framework/Resources/lib -L/usr/local/lib -o pdInfoBuilder.so pdInfoBuilder.o -F/Library/Frameworks/R.framework/.. -framework R -Wl,-framework -Wl,CoreFoundation installing to /Users/biocbuild/bbs-3.8-bioc/meat/pdInfoBuilder.buildbin-libdir/pdInfoBuilder/libs ** R ** inst ** byte-compile and prepare package for lazy loading No methods found in package ‘RSQLite’ for request: ‘dbGetQuery’ when loading ‘pdInfoBuilder’ ** help *** installing help indices ** building package indices ** installing vignettes ** testing if installed package can be loaded No methods found in package ‘RSQLite’ for request: ‘dbGetQuery’ when loading ‘pdInfoBuilder’ * DONE (pdInfoBuilder) >>>>>>> >>>>>>> FIXING LINKS FOR pdInfoBuilder.buildbin-libdir/pdInfoBuilder/libs//pdInfoBuilder.so >>>>>>> install_name_tool -change "/usr/local/lib/libgcc_s.1.dylib" "/Library/Frameworks/R.framework/Versions/3.5/Resources/lib/libgcc_s.1.dylib" "pdInfoBuilder.buildbin-libdir/pdInfoBuilder/libs//pdInfoBuilder.so" install_name_tool -change "/usr/local/lib/libgfortran.3.dylib" "/Library/Frameworks/R.framework/Versions/3.5/Resources/lib/libgfortran.3.dylib" "pdInfoBuilder.buildbin-libdir/pdInfoBuilder/libs//pdInfoBuilder.so" install_name_tool -change "/usr/local/lib/libreadline.5.2.dylib" "/Library/Frameworks/R.framework/Versions/3.5/Resources/lib/libreadline.5.2.dylib" "pdInfoBuilder.buildbin-libdir/pdInfoBuilder/libs//pdInfoBuilder.so" install_name_tool -change "/usr/local/lib/libreadline.dylib" "/Library/Frameworks/R.framework/Versions/3.5/Resources/lib/libreadline.dylib" "pdInfoBuilder.buildbin-libdir/pdInfoBuilder/libs//pdInfoBuilder.so" install_name_tool -change "/usr/local/lib/libquadmath.0.dylib" "/Library/Frameworks/R.framework/Versions/3.5/Resources/lib/libquadmath.0.dylib" "pdInfoBuilder.buildbin-libdir/pdInfoBuilder/libs//pdInfoBuilder.so"