| Back to Multiple platform build/check report for BioC 3.8 | 
  | 
This page was generated on 2019-04-16 11:52:02 -0400 (Tue, 16 Apr 2019).
| Package 1132/1649 | Hostname | OS / Arch | INSTALL | BUILD | CHECK | BUILD BIN | ||||||
| pcaExplorer 2.8.1 Federico Marini 
  | malbec1 | Linux (Ubuntu 16.04.6 LTS) / x86_64 | OK | OK | [ OK ] | |||||||
| merida1 | OS X 10.11.6 El Capitan / x86_64 | OK | OK | OK | OK | 
| Package: pcaExplorer | 
| Version: 2.8.1 | 
| Command: /home/biocbuild/bbs-3.8-bioc/R/bin/R CMD check --install=check:pcaExplorer.install-out.txt --library=/home/biocbuild/bbs-3.8-bioc/R/library --no-vignettes --timings pcaExplorer_2.8.1.tar.gz | 
| StartedAt: 2019-04-16 02:00:01 -0400 (Tue, 16 Apr 2019) | 
| EndedAt: 2019-04-16 02:05:49 -0400 (Tue, 16 Apr 2019) | 
| EllapsedTime: 348.3 seconds | 
| RetCode: 0 | 
| Status: OK | 
| CheckDir: pcaExplorer.Rcheck | 
| Warnings: 0 | 
############################################################################## ############################################################################## ### ### Running command: ### ### /home/biocbuild/bbs-3.8-bioc/R/bin/R CMD check --install=check:pcaExplorer.install-out.txt --library=/home/biocbuild/bbs-3.8-bioc/R/library --no-vignettes --timings pcaExplorer_2.8.1.tar.gz ### ############################################################################## ############################################################################## * using log directory ‘/home/biocbuild/bbs-3.8-bioc/meat/pcaExplorer.Rcheck’ * using R version 3.5.3 (2019-03-11) * using platform: x86_64-pc-linux-gnu (64-bit) * using session charset: UTF-8 * using option ‘--no-vignettes’ * checking for file ‘pcaExplorer/DESCRIPTION’ ... OK * checking extension type ... Package * this is package ‘pcaExplorer’ version ‘2.8.1’ * package encoding: UTF-8 * checking package namespace information ... OK * checking package dependencies ... OK * checking if this is a source package ... OK * checking if there is a namespace ... OK * checking for hidden files and directories ... OK * checking for portable file names ... OK * checking for sufficient/correct file permissions ... OK * checking whether package ‘pcaExplorer’ can be installed ... OK * checking installed package size ... OK * checking package directory ... OK * checking ‘build’ directory ... OK * checking DESCRIPTION meta-information ... OK * checking top-level files ... OK * checking for left-over files ... OK * checking index information ... OK * checking package subdirectories ... OK * checking R files for non-ASCII characters ... OK * checking R files for syntax errors ... OK * checking whether the package can be loaded ... OK * checking whether the package can be loaded with stated dependencies ... OK * checking whether the package can be unloaded cleanly ... OK * checking whether the namespace can be loaded with stated dependencies ... OK * checking whether the namespace can be unloaded cleanly ... OK * checking dependencies in R code ... OK * checking S3 generic/method consistency ... OK * checking replacement functions ... OK * checking foreign function calls ... OK * checking R code for possible problems ... NOTE pcaExplorer: no visible binding for '<<-' assignment to ‘pcaexplorer_env’ pcaExplorer : <anonymous>: no visible binding for global variable ‘airway’ pcaExplorer : <anonymous>: no visible binding for global variable ‘pcaexplorer_env’ Undefined global functions or variables: airway pcaexplorer_env * checking Rd files ... OK * checking Rd metadata ... OK * checking Rd cross-references ... OK * checking for missing documentation entries ... OK * checking for code/documentation mismatches ... OK * checking Rd \usage sections ... OK * checking Rd contents ... OK * checking for unstated dependencies in examples ... OK * checking files in ‘vignettes’ ... OK * checking examples ... OK * checking for unstated dependencies in ‘tests’ ... OK * checking tests ... Running ‘testthat.R’ OK * checking for unstated dependencies in vignettes ... OK * checking package vignettes in ‘inst/doc’ ... OK * checking running R code from vignettes ... SKIPPED * checking re-building of vignette outputs ... SKIPPED * checking PDF version of manual ... OK * DONE Status: 1 NOTE See ‘/home/biocbuild/bbs-3.8-bioc/meat/pcaExplorer.Rcheck/00check.log’ for details.
pcaExplorer.Rcheck/00install.out
############################################################################## ############################################################################## ### ### Running command: ### ### /home/biocbuild/bbs-3.8-bioc/R/bin/R CMD INSTALL pcaExplorer ### ############################################################################## ############################################################################## * installing to library ‘/home/biocbuild/bbs-3.8-bioc/R/library’ * installing *source* package ‘pcaExplorer’ ... ** R ** inst ** byte-compile and prepare package for lazy loading ** help *** installing help indices ** building package indices ** installing vignettes ** testing if installed package can be loaded * DONE (pcaExplorer)
pcaExplorer.Rcheck/tests/testthat.Rout
R version 3.5.3 (2019-03-11) -- "Great Truth"
Copyright (C) 2019 The R Foundation for Statistical Computing
Platform: x86_64-pc-linux-gnu (64-bit)
R is free software and comes with ABSOLUTELY NO WARRANTY.
You are welcome to redistribute it under certain conditions.
Type 'license()' or 'licence()' for distribution details.
R is a collaborative project with many contributors.
Type 'contributors()' for more information and
'citation()' on how to cite R or R packages in publications.
Type 'demo()' for some demos, 'help()' for on-line help, or
'help.start()' for an HTML browser interface to help.
Type 'q()' to quit R.
> library(testthat)
> library(pcaExplorer)
> 
> test_check("pcaExplorer")
══ testthat results  ═══════════════════════════════════════════════════════════
OK: 18 SKIPPED: 0 FAILED: 0
> 
> proc.time()
   user  system elapsed 
 82.336   0.864  83.316 
pcaExplorer.Rcheck/pcaExplorer-Ex.timings
| name | user | system | elapsed | |
| correlatePCs | 4.080 | 0.008 | 4.098 | |
| distro_expr | 2.792 | 0.016 | 2.810 | |
| geneprofiler | 2.120 | 0.004 | 2.124 | |
| genespca | 2.640 | 0.012 | 2.652 | |
| get_annotation | 3.332 | 0.028 | 3.360 | |
| get_annotation_orgdb | 2.468 | 0.040 | 2.511 | |
| hi_loadings | 1.928 | 0.008 | 1.937 | |
| limmaquickpca2go | 1.892 | 0.052 | 1.948 | |
| makeExampleDESeqDataSet_multifac | 0.184 | 0.000 | 0.184 | |
| pair_corr | 2.204 | 0.036 | 2.243 | |
| pca2go | 2.604 | 0.020 | 2.629 | |
| pcaExplorer | 1.884 | 0.012 | 1.897 | |
| pcaplot | 2.572 | 0.004 | 2.577 | |
| pcaplot3d | 2.388 | 0.016 | 2.451 | |
| pcascree | 3.056 | 0.016 | 3.075 | |
| plotPCcorrs | 2.380 | 0.000 | 2.383 | |
| topGOtable | 2.128 | 0.024 | 2.153 | |