| Back to Multiple platform build/check report for BioC 3.8 | 
  | 
This page was generated on 2019-04-13 11:22:57 -0400 (Sat, 13 Apr 2019).
| Package 1121/1649 | Hostname | OS / Arch | INSTALL | BUILD | CHECK | BUILD BIN | ||||||
| pathifier 1.20.0 Assif Yitzhaky 
  | malbec1 | Linux (Ubuntu 16.04.6 LTS) / x86_64 | OK | OK | OK | |||||||
| tokay1 | Windows Server 2012 R2 Standard / x64 | OK | OK | OK | [ OK ] | |||||||
| merida1 | OS X 10.11.6 El Capitan / x86_64 | OK | OK | OK | OK | 
| Package: pathifier | 
| Version: 1.20.0 | 
| Command: rm -rf pathifier.buildbin-libdir && mkdir pathifier.buildbin-libdir && C:\Users\biocbuild\bbs-3.8-bioc\R\bin\R.exe CMD INSTALL --merge-multiarch --build --library=pathifier.buildbin-libdir pathifier_1.20.0.tar.gz | 
| StartedAt: 2019-04-13 07:44:58 -0400 (Sat, 13 Apr 2019) | 
| EndedAt: 2019-04-13 07:45:12 -0400 (Sat, 13 Apr 2019) | 
| EllapsedTime: 14.4 seconds | 
| RetCode: 0 | 
| Status: OK | 
| PackageFile: pathifier_1.20.0.zip | 
| PackageFileSize: 1.948 MiB | 
##############################################################################
##############################################################################
###
### Running command:
###
###   rm -rf pathifier.buildbin-libdir && mkdir pathifier.buildbin-libdir && C:\Users\biocbuild\bbs-3.8-bioc\R\bin\R.exe CMD INSTALL --merge-multiarch --build --library=pathifier.buildbin-libdir pathifier_1.20.0.tar.gz
###
##############################################################################
##############################################################################
install for i386
* installing *source* package 'pathifier' ...
** R
** data
** inst
** byte-compile and prepare package for lazy loading
** help
*** installing help indices
  converting help for package 'pathifier'
    finding HTML links ... done
    KEGG                                    html  
    Sheffer                                 html  
    pathifier-package                       html  
    quantify_pathways_deregulation          html  
** building package indices
** installing vignettes
** testing if installed package can be loaded
In R CMD INSTALL
install for x64
* installing *source* package 'pathifier' ...
** testing if installed package can be loaded
* MD5 sums
packaged installation of 'pathifier' as pathifier_1.20.0.zip
* DONE (pathifier)
In R CMD INSTALL
In R CMD INSTALL